BEGIN:VCALENDAR
VERSION:2.0
PRODID:-//ARTNOIR//NONSGML Events//EN
CALSCALE:GREGORIAN
X-ORIGINAL-URL:https://artnoir.ch/events/event/
X-WR-CALDESC:ARTNOIR - Events
BEGIN:VEVENT
UID:20260112T0124Z-1768181075.321-EO-258542-1@10.0.9.48
STATUS:CONFIRMED
DTSTAMP:20260423T232416Z
CREATED:20260107T195917Z
LAST-MODIFIED:20260107T201441Z
DTSTART;TZID=Europe/Zurich:20261031T190000
DTEND;TZID=Europe/Zurich:20261031T235900
SUMMARY: Betontod
DESCRIPTION: Betontod\n+ Janiz\nBetontod 2026 – Wir fangen jetzt erst an! T
 our 2026 – Betontod im Oktober 2026 auf grosser Jubiläumstour\nBetontod kom
 men nächstes Jahr auf grosse Deutschland-Tour und feiern ihr beeindruckende
 s 35-jähriges Bandjubiläum. Das wird die grösste Tour der Bandgeschichte. F
 ür die Band aus Rheinberg\, die seit den frühen Neunzigern für energiegelad
 enen Punkrock\, klare Haltung und eine treue generationsübergreifende Fange
 meinde steht\, ist dieser Anlass weit mehr als nur ein runder Geburtstag. .
 .. [Read more...]
X-ALT-DESC;FMTTYPE=text/html: <p><a href="https://www.betontod.de/" rel="no
 opener" target="_blank">Betontod</a><br />+ <a href="https://www.instagram.
 com/janizofficial/" rel="noopener" target="_blank">Janiz</a></p><p><strong>
 Betontod 2026 – Wir fangen jetzt erst an! Tour 2026 - Betontod im Oktober 2
 026 auf grosser Jubiläumstour</strong></p><p>Betontod kommen nächstes Jahr 
 auf grosse Deutschland-Tour und feiern ihr beeindruckendes 35-jähriges Band
 jubiläum. Das wird die grösste Tour der Bandgeschichte. Für die Band aus Rh
 einberg\, die seit den frühen Neunzigern für energiegeladenen Punkrock\, kl
 are Haltung und eine treue generationsübergreifende Fangemeinde steht\, ist
  dieser Anlass weit mehr als nur ein runder Geburtstag. Betontod nutzen das
  Jubiläum\, um ihren Fans auf ganz besondere Weise Danke zu sagen für Jahrz
 ehnte voller gemeinsamer Erlebnisse\, verschwitzter Clubshows\, lauter Fest
 ivalnächte und unzählige Momente\, in denen ihre Musik Menschen zusammengeb
 racht hat.</p><p>Die Band macht dabei deutlich\, dass ihre Geschichte zwar 
 lang ist\, aber noch lange nicht auserzählt: Mit ihrer grossen Deutschlandt
 our im Oktober 2026 setzen sie ein klares Zeichen. Die „Wir fangen jetzt er
 st an!“ Tour 2026 zeigt\, dass Betontod auch nach 35 Jahren nicht leiser\, 
 sondern lauter und entschlossener zurückkehren. Am 5. Dezember gibt es eine
 n brandneuen Song\, der als direktes Dankeschön an alle gedacht ist\, welch
 e die Band seit ihren ersten Schritten begleitet haben. Diejenigen\, die vo
 n kleinen Kellergigs über Jugendzentrumskonzerte bis hin zu grossen Festiva
 lauftritten stets an der Seite der Band standen\, die mitgesungen\, geschwi
 tzt\, gefeiert und das ein oder andere Bier im Moshpit verschüttet haben. D
 er neue Track ist ein musikalischer Gruss an diese Gemeinschaft und ein Ver
 sprechen\, dass Betontod weiterhin mit voller Kraft nach vorne gehen.</p><p
 >Parallel wurde die grosse Betontod-Dokumentation veröffentlicht\, die für 
 eine Woche kostenlos auf YouTube verfügbar ist. Die Doku bietet einen inten
 siven und offenen Blick in 35 Jahre Bandgeschichte: von den ersten Proberau
 mtagen über die frühen DIY-Auftritte bis hin zu ausverkauften Shows und gro
 ssen Bühnen im ganzen Land. Das Filmprojekt zeigt ungeschönt\, wie viel Lei
 denschaft\, Freundschaft und Hingabe hinter Betontod stehen und wie sich di
 e Band über drei Jahrzehnte hinweg immer wieder neu erfunden hat\, ohne ihr
 e Wurzeln zu verlieren.</p><p>Am selben Tag wird ausserdem die „Wir fangen 
 jetzt erst an!“ Tour 2026 offiziell angekündigt – die im Oktober quer durch
  Deutschland führen wird. Nur mehr Gründe\, lauter aufzudrehen. Für die Fan
 s bedeutet diese Tour mehr als nur Konzerte sie ist ein Statement dafür\, d
 ass Betontod auch nach dreieinhalb Jahrzehnten nicht müde werden\, sondern 
 lauter\, grösser und hungriger zurückkehren als je zuvor.</p><p><span style
 ="color: #c86079\;">Ein <strong>ARTNOIR</strong> Partner-Event</span></p>
CATEGORIES:Partner-Event,Punk
LOCATION:Komplex 457
GEO:47.387269;8.499988
ORGANIZER;CN="JHG Shark":MAILTO:webmaster@jhgshark.ch
URL;VALUE=URI:https://artnoir.ch/events/event/betontod-2026-10-31/
ATTACH;FMTTYPE=image/jpeg:https://artnoir.ch/wp-content/uploads/2026/01/betontod-2026-10-31-e1767816242496.jpg
END:VEVENT
BEGIN:VTIMEZONE
TZID:Europe/Zurich
BEGIN:STANDARD
TZOFFSETFROM:+0200
TZOFFSETTO:+0100
DTSTART:20261025T010000
TZNAME:CET
END:STANDARD
END:VTIMEZONE
END:VCALENDAR
