BEGIN:VCALENDAR
VERSION:2.0
PRODID:-//ARTNOIR//NONSGML Events//EN
CALSCALE:GREGORIAN
X-ORIGINAL-URL:https://artnoir.ch/events/event/
X-WR-CALDESC:ARTNOIR - Events
BEGIN:VEVENT
UID:20260112T1249Z-1768222142.1749-EO-258588-1@10.0.9.48
STATUS:CONFIRMED
DTSTAMP:20260423T232516Z
CREATED:20260110T160657Z
LAST-MODIFIED:20260410T105233Z
DTSTART;TZID=Europe/Zurich:20260606T153000
DTEND;TZID=Europe/Zurich:20260606T235900
SUMMARY: bergmal Festival
DESCRIPTION: EF\n+ Leech\n+ hubris.\n+ Newhvn (A Burial At Sea)\n+ Nebno\nD
 as bergmal Kollektiv feiert sein 10-jähriges Bestehen und zelebriert dies m
 it einer Jubiläumsausgabe des gleichnamigen Festivals. Intim und mit klarem
  Fokus auf die Musik\, die das Projekt seit einer Dekade prägt. \nWas vor z
 ehn Jahren als Herzensprojekt startete\, entwickelte sich schnell zu einer 
 festen Grösse in der Schweizer Musiklandschaft. ... [Read more...]
X-ALT-DESC;FMTTYPE=text/html: <p><a href="https://efmusic.se/" rel="noopene
 r" target="_blank">EF</a><br />+ <a href="http://www.leech.ch/" rel="noopen
 er" target="_blank">Leech</a><br />+ <a href="https://www.hubrisband.com/" 
 rel="noopener" target="_blank">hubris.</a><br />+ Newhvn (A Burial At Sea)<
 br />+ <a href="https://www.nebno.ch/" rel="noopener" target="_blank">Nebno
 </a></p><p>Das bergmal Kollektiv feiert sein 10-jähriges Bestehen und zeleb
 riert dies mit einer Jubiläumsausgabe des gleichnamigen Festivals. Intim un
 d mit klarem Fokus auf die Musik\, die das Projekt seit einer Dekade prägt.
  </p><p>Was vor zehn Jahren als Herzensprojekt startete\, entwickelte sich 
 schnell zu einer festen Grösse in der Schweizer Musiklandschaft. Nach vier 
 erfolgreichen Festival-Ausgaben im Dynamo Zürich\, zahlreichen Club-Shows u
 nd einer Phase der Neuausrichtung während der Pandemie kehrt das bergmal Fe
 stival nun zu seinem Kern zurück. Die kommende Ausgabe verzichtet bewusst a
 uf Grossstadthektik und setzt stattdessen auf einen konzentrierten\, famili
 ären Rahmen.</p><p>Seit der Gründung ist das bergmal Festival ein Zuhause f
 ür Post-Rock und angrenzende Genres\, die in der klassischen Radiolandschaf
 t selten Platz finden. Hier bricht die Musik mit gewohnten Strukturen: Orch
 estrale Dichte trifft auf minimalistische Stille\, elektronische Klänge ver
 schmelzen mit akustischen Instrumenten. Statt auf kurzlebige Effekte\, wird
  auf Atmosphäre und Momente\, die nachwirken gesetzt. Es ist Musik\, die Ra
 um für eigene Interpretation lässt und das Publikum zum Eintauchen einlädt.
  Mit fünf sorgfältig ausgewählten Bands wird das Jubiläums-Festival erneut 
 zum Ort der Entdeckung – sowohl für langjährige Post-Rock-Fans als auch für
  neugierige Ohren\, die Lust auf Experimente abseits der Genregrenzen haben
 .</p>
CATEGORIES:Rock
LOCATION:Dynamo
GEO:47.383312;8.539341
ORGANIZER;CN="JHG Shark":MAILTO:webmaster@jhgshark.ch
URL;VALUE=URI:https://artnoir.ch/events/event/bergmal-festival-2026/
ATTACH;FMTTYPE=image/jpeg:https://artnoir.ch/wp-content/uploads/2026/01/bergmal-festival-2026.jpg
END:VEVENT
BEGIN:VTIMEZONE
TZID:Europe/Zurich
BEGIN:DAYLIGHT
TZOFFSETFROM:+0100
TZOFFSETTO:+0200
DTSTART:20260329T010000
TZNAME:CEST
END:DAYLIGHT
END:VTIMEZONE
END:VCALENDAR
