BEGIN:VCALENDAR
VERSION:2.0
PRODID:-//ARTNOIR//NONSGML Events//EN
CALSCALE:GREGORIAN
X-ORIGINAL-URL:https://artnoir.ch/events/event/
X-WR-CALDESC:ARTNOIR - Events
BEGIN:VEVENT
UID:20251212T1556Z-1765554966.906-EO-257684-1@10.0.9.48
STATUS:CONFIRMED
DTSTAMP:20260423T234525Z
CREATED:20251209T104018Z
LAST-MODIFIED:20251209T104018Z
DTSTART;TZID=Europe/Zurich:20261009T173000
DTEND;TZID=Europe/Zurich:20261009T223000
SUMMARY: Behemoth & Dimmu Borgir
DESCRIPTION: Behemoth & Dimmu Borgir\n+ Dark Funeral\nAm Freitag\, 09. Okto
 ber 2026 schliessen sich zwei der prägendsten Kräfte des Extreme Metal zusa
 mmen: Behemoth und Dimmu Borgir bringen ihre gemeinsame Co-Headline-Tour In
  League With Satan nach Zürich in die Halle 622. Begleitet werden sie von d
 en schwedischen Black Metal-Ikonen Dark Funeral als Special Guest.\nDiese T
 our vereint drei Bands\, die das Fundament des modernen Black und Extreme M
 etal mitgeprägt haben. ... [Read more...]
X-ALT-DESC;FMTTYPE=text/html: <p><a href="https://www.behemoth.pl/" target=
 "_blank" rel="noopener">Behemoth</a> & <a href="https://www.dimmu-borgir.co
 m/" target="_blank" rel="noopener">Dimmu Borgir</a><br />+ <a href="https:/
 /www.darkfuneral.se/" target="_blank" rel="noopener">Dark Funeral</a></p><p
 >Am Freitag\, 09. Oktober 2026 schliessen sich zwei der prägendsten Kräfte 
 des Extreme Metal zusammen: Behemoth und Dimmu Borgir bringen ihre gemeinsa
 me Co-Headline-Tour In League With Satan nach Zürich in die Halle 622. Begl
 eitet werden sie von den schwedischen Black Metal-Ikonen Dark Funeral als S
 pecial Guest.</p><p>Diese Tour vereint drei Bands\, die das Fundament des m
 odernen Black und Extreme Metal mitgeprägt haben. Fans dürfen sich auf monu
 mentale Bühnenproduktionen und atmosphärische Performances freuen\, die das
  volle Spektrum ihrer jeweiligen künstlerischen Vision zeigen. Die In Leagu
 e With Satan-Tour verspricht eines der Extreme Metal Events des Jahrzehnts 
 zu werden.</p><p>Nach einigen Jahren ohne umfassende Europatournee melden s
 ich die Symphonic Black Metal Pioniere <strong>Dimmu Borgir</strong> mit ei
 ner brandneuen Show zurück\, die ihre orchestrale\, düster-epische Klangwel
 t noch stärker ins Licht rückt. «Es ist grossartig\, wieder auf Tour zu geh
 en – und das gemeinsam mit unseren Brüdern von Behemoth»\, erklärt die Band
 . «Wir können es kaum erwarten\, unser nächstes Kapitel mit neuen wie alten
  Fans zu teilen.»</p><p><strong>Behemoth</strong> wiederum gelten als treib
 ende Kraft des Blackened Death Metal. Seit über drei Jahrzehnten stehen sie
  für eine kompromisslose Haltung und Widerstand gegen gesellschaftliche Kon
 ventionen. Unter der Leitung von Adam “Nergal” Darski hat sich die Band nic
 ht nur als prägende Kraft in der extremen Metal-Szene etabliert\, sondern a
 uch als Inbegriff von Rebellion\, Individualität und unerschütterlicher Sel
 bstbehauptung.</p><p>Frontmann Nergal fasst die Dimension dieses Tourpakets
  prägnant zusammen: «Behemoth\, Dimmu Borgir und <strong>Dark Funeral</stro
 ng>… historisch… biblisch! Lasst uns verdammt noch mal böse werden!»</p>
CATEGORIES:Metal
LOCATION:Halle 622
GEO:47.413112;8.541888
ORGANIZER;CN="Christian Wölbitsch":MAILTO:info@cd-photography.net
URL;VALUE=URI:https://artnoir.ch/events/event/behemoth-and-dimmu-borgir-202
 6-10-09/
ATTACH;FMTTYPE=image/jpeg:https://artnoir.ch/wp-content/uploads/2025/12/BehemothDimmu-Borgir-2026-10-09.jpg
END:VEVENT
BEGIN:VTIMEZONE
TZID:Europe/Zurich
BEGIN:DAYLIGHT
TZOFFSETFROM:+0100
TZOFFSETTO:+0200
DTSTART:20260329T010000
TZNAME:CEST
END:DAYLIGHT
END:VTIMEZONE
END:VCALENDAR
