BEGIN:VCALENDAR
VERSION:2.0
PRODID:-//ARTNOIR//NONSGML Events//EN
CALSCALE:GREGORIAN
X-ORIGINAL-URL:https://artnoir.ch/events/event/
X-WR-CALDESC:ARTNOIR - Events
BEGIN:VEVENT
UID:20260423T2117Z-1776979067.101-EO-263426-1@10.0.9.48
STATUS:CONFIRMED
DTSTAMP:20260423T231747Z
CREATED:20260423T061545Z
LAST-MODIFIED:20260423T061545Z
DTSTART;TZID=Europe/Zurich:20261202T180000
DTEND;TZID=Europe/Zurich:20261202T230000
SUMMARY: BAP
DESCRIPTION: BAP\nBAP 2026 – Fünfzig Jahre BAP – Die Zielgerade\nAus gegebe
 nem Anlass diesmal eine Arena-Tour durch Deutschland\, Österreich und die S
 chweiz. So ein Jubiläum will gefeiert werden.\nSpricht man von BAP\, dann s
 pricht man über deutsche Rockgeschichte. Mit ihren kölschen Texten haben si
 e geschafft\, was nur wenigen Bands in dieser Dimension gelungen ist: Sie v
 erhalfen lokalem Kulturgut zu universeller Relevanz\, feierten weit über di
 e Grenzen ihrer Heimatstadt Köln und Deutschland hinaus ungeahnte Erfolge. 
 ... [Read more...]
X-ALT-DESC;FMTTYPE=text/html: <p><a href="https://bap.de/" target="_blank" 
 rel="noopener">BAP</a></p><p><strong>BAP 2026 – Fünfzig Jahre BAP - Die Zie
 lgerade</strong></p><p>Aus gegebenem Anlass diesmal eine Arena-Tour durch D
 eutschland\, Österreich und die Schweiz. So ein Jubiläum will gefeiert werd
 en.</p><p>Spricht man von BAP\, dann spricht man über deutsche Rockgeschich
 te. Mit ihren kölschen Texten haben sie geschafft\, was nur wenigen Bands i
 n dieser Dimension gelungen ist: Sie verhalfen lokalem Kulturgut zu univers
 eller Relevanz\, feierten weit über die Grenzen ihrer Heimatstadt Köln und 
 Deutschland hinaus ungeahnte Erfolge. 2026 wird ein ganz besonderes Jahr fü
 r BAP und ihre riesige Fangemeinde\, denn die 1976 gegründete Band feiert i
 hr 50. Jubiläum – und Gründer der Band Wolfgang Niedecken seinen 75. Geburt
 stag. Grund genug\, um dorthin zurückzukehren\, wo Niedecken am liebsten is
 t: In seine Heimat\, in dem Fall ins heimische Fussball-Stadion\, nah bei s
 einen Fans. Unter dem Titel „Fünfzig Jahre BAP – Die Zielgerade“ geht die K
 ölner Rocklegende dann im Winter für 19 Termine auf grosse Jubiläumstour du
 rch Deutschland\, Österreich und die Schweiz.</p><p>Mit frühen Hits wie „Ve
 rdamp lang her“\, „Kristallnaach“\, „Müslimän“\, „Waschsalon“ und „Do kanns
  Zaubere“ haben BAP schon in den 80ern Musikgeschichte geschrieben\, sich u
 nwiderruflich in die Herzen ihrer Fans gespielt und sich mit Leidenschaft\,
  Haltung und einem unverwechselbaren Sound als eine unverfälschte Rock-Inst
 itution in der deutschen Musikszene etabliert. Dreizehn Nummer-Eins-Alben\,
  Edelmetall-Awards\, begehrte Musikpreise – und vor allem live erzielten BA
 P über fünf Jahrzehnte grösste Erfolge. Nach der ausverkauften ZEITREISE-To
 ur 2024/25 wird Rocklegende Wolfgang Niedecken also auch im nächsten Jahr a
 uf der Bühne stehen und gemeinsam mit dem Publikum auf musikalische Zeitrei
 se gehen\, um das enorme Repertoire aus 50 Jahren zu feiern – inklusive der
  grössten Hits.</p><p>Seit ihrer Gründung Mitte der 70er Jahre hat die Band
  die deutsche Rock- und Poplandschaft nachhaltig geprägt. Ihre Hits wurden 
 zu Hymnen einer ganzen Generation und sind heute noch hochaktuell und relev
 ant. Auch heute scheut sich Niedecken nicht\, schwierige Themen oder politi
 sches Zeitgeschehen in seinen tiefgründigen\, poetischen und berührenden So
 ngs zu verarbeiten. Authentisch und nah sind die Geschichten\, die der char
 ismatische Sänger und Frontmann mit seiner warmen\, rauchigen Stimme erzähl
 t. Der BAP-Sound ist ein genialer Mix aus Rock- und Folk-Elementen. Man spü
 rt\, dass Niedecken mit den Beatles\, den Rolling Stones\, den Kinks und Bo
 b Dylan aufgewachsen ist.</p><p>Als kölsche Jung: Wo andere Dialekt als Sch
 ranke empfinden\, hat er ihn mit seiner Band zum Türöffner gemacht – direkt
  ins Herz. Trotz anfänglicher Kritik an der Entscheidung\, auf Kölsch zu si
 ngen\, blieb Niedecken seiner regionalen Mundart treu. Der Erfolg hat ihm r
 echt gegeben. Schon Anfang der 80er Jahre ging die Band auf ihre erste Deut
 schland-Tournee und hat dies in den folgenden Jahrzehnten ihrer Bandgeschic
 hte immer wieder mit grosser Resonanz getan. Vor allem live entfaltet sich 
 bis heute – auch noch 50 Jahre später – das Phänomen BAP in seiner ganzen e
 inzigartigen Form.So verwundert es kaum\, dass das Konzert zum 50. Bandjubi
 läum am 10. Juli 2026 im Kölner RheinEnergieStadion binnen kurzer Zeit ausv
 erkauft war. Alle Fans\, die kein Ticket ergattern konnten\, haben jetzt di
 e Möglichkeit\, die Band ab dem 27. November 2026 live im Rahmen ihrer gros
 sen Jubiläumstournee „Fünfzig Jahre BAP – Die Zielgerade“ zu erleben. Insge
 samt wird es 19 Termine in Deutschland\, Österreich und der Schweiz geben –
  unter anderem in der Hamburger Barclays Arena\, der Stuttgarter Porsche Ar
 ena\, der Münchner Olympiahalle\, der Berliner Uber Arena und zum „Homecomi
 ng“ in der Kölner Lanxessarena.</p><p>Auf die Frage\, ob „Die Zielgerade“ i
 m Tourtitel wohl den Abschied der Band von der Bühne ankündigen soll\, mein
 t Wolfgang:„Für uns ist es das Grösste\, die Songs live vor unseren langjäh
 rigen treuen Fans zu spielen. Es macht mir auch im fortgeschrittenen Alter 
 immer noch unglaublich viel Spass. Aber man muss realistisch bleiben: Solch
  grosse Tourneen zu planen ist immer eine Wette auf die Zukunft. Lasst uns 
 jetzt erstmal gemeinsam unser Jubiläum feiern. So eine Zielgerade kann unte
 r Umständen länger sein\, als man denkt – und unsere hat gerade erst angefa
 ngen. Immer schön Schritt für Schritt\, sonst gerät man womöglich noch ins 
 Stolpern.“</p>
CATEGORIES:Rock
LOCATION:Hallenstadion
GEO:47.411425;8.551685
ORGANIZER;CN="JHG Shark":MAILTO:webmaster@jhgshark.ch
URL;VALUE=URI:https://artnoir.ch/events/event/bap-2026-12-02/
ATTACH;FMTTYPE=image/jpeg:https://artnoir.ch/wp-content/uploads/2026/04/bap-2026-12-02.jpg
END:VEVENT
BEGIN:VTIMEZONE
TZID:Europe/Zurich
BEGIN:STANDARD
TZOFFSETFROM:+0200
TZOFFSETTO:+0100
DTSTART:20261025T010000
TZNAME:CET
END:STANDARD
END:VTIMEZONE
END:VCALENDAR
