BEGIN:VCALENDAR
VERSION:2.0
PRODID:-//ARTNOIR//NONSGML Events//EN
CALSCALE:GREGORIAN
X-ORIGINAL-URL:https://artnoir.ch/events/event/
X-WR-CALDESC:ARTNOIR - Events
BEGIN:VEVENT
UID:20251007T1415Z-1759846501.4969-EO-253914-1@10.0.9.22
STATUS:CONFIRMED
DTSTAMP:20260423T232543Z
CREATED:20251004T164807Z
LAST-MODIFIED:20260115T180928Z
DTSTART;TZID=Europe/Zurich:20261010T193000
DTEND;TZID=Europe/Zurich:20261010T235900
SUMMARY: Banned From Utopia
DESCRIPTION: Banned From Utopia\n«We’re Only In It For The Euros» European 
 Tour\nRay White (Frank Zappa\, 1976 – 1984): Lead Vocals\nScott Thunes (Fra
 nk Zappa\, 1981 – 1988): Bass/BG Vocals\nChad Wackerman (Frank Zappa\, 1981
  – 1988):  Drums\nMike Keneally (Frank Zappa\, 1988)*: Keyboards/Guitar/Voc
 als\nJamie Kime (Zappa Plays Zappa\, 2007 – 2012):  Guitar/BG Vocals\n«Nach
 dem das allererste ZappaUnion Festival 2012 in Norwegen ein solcher Erfolg 
 war\, ... [Read more...]
X-ALT-DESC;FMTTYPE=text/html: <p><a href="https://bannedfromutopia.com/" re
 l="noopener" target="_blank">Banned From Utopia</a></p><p>«We’re Only In It
  For The Euros» European Tour<br />Ray White (Frank Zappa\, 1976 – 1984): L
 ead Vocals<br />Scott Thunes (Frank Zappa\, 1981 – 1988): Bass/BG Vocals<br
  />Chad Wackerman (Frank Zappa\, 1981 – 1988):  Drums<br />Mike Keneally (F
 rank Zappa\, 1988)*: Keyboards/Guitar/Vocals<br />Jamie Kime (Zappa Plays Z
 appa\, 2007 – 2012):  Guitar/BG Vocals</p><p>«Nachdem das allererste ZappaU
 nion Festival 2012 in Norwegen ein solcher Erfolg war\, schlugen meine Freu
 nde Erlend und Bjorn vor\, dass ich 2013 mit einer kompletten Band aus Zapp
 a-Alumni zurückkommen sollte. Ich stimmte zu\, dass dies eine großartige Id
 ee war\, und reformierte Banned From Utopia\, eine einzigartige Kombination
  von Musikern\, die erstmals 1994 in einer Reihe von Konzerten auftraten\, 
 um Franks Leben und Musik zu würdigen. Die Band trat in den nächsten Jahren
  in verschiedenen Konfigurationen auf\, war aber bis jetzt viele Jahre lang
  nicht zu sehen. WIR SIND ZURÜCK und freuen uns sehr darauf\, diese grossar
 tige Musik für die Fans zu spielen\, die sie genauso lieben wie wir.» – Rob
 ert Martin</p><p>[text: zvg]</p>
CATEGORIES:Progressive,Rock
LOCATION:Kammgarn
GEO:47.694492;8.636424
ORGANIZER;CN="JHG Shark":MAILTO:webmaster@jhgshark.ch
URL;VALUE=URI:https://artnoir.ch/events/event/banned-from-utopia-2026-10-10
 /
ATTACH;FMTTYPE=image/jpeg:https://artnoir.ch/wp-content/uploads/2025/10/banned-from-utopia-2026-10-10.jpg
END:VEVENT
BEGIN:VTIMEZONE
TZID:Europe/Zurich
BEGIN:DAYLIGHT
TZOFFSETFROM:+0100
TZOFFSETTO:+0200
DTSTART:20260329T010000
TZNAME:CEST
END:DAYLIGHT
END:VTIMEZONE
END:VCALENDAR
