BEGIN:VCALENDAR
VERSION:2.0
PRODID:-//ARTNOIR//NONSGML Events//EN
CALSCALE:GREGORIAN
X-ORIGINAL-URL:https://artnoir.ch/events/event/
X-WR-CALDESC:ARTNOIR - Events
BEGIN:VEVENT
UID:20250425T0122Z-1745544164.7312-EO-244988-1@10.0.9.22
STATUS:CONFIRMED
DTSTAMP:20260423T232252Z
CREATED:20250423T172444Z
LAST-MODIFIED:20260228T155434Z
DTSTART;TZID=Europe/Zurich:20261212T180000
DTEND;TZID=Europe/Zurich:20261212T223500
SUMMARY: Avatar
DESCRIPTION: Avatar\nIn The Airwaves\nNachholtermin für das abgesagt Konzer
 t vom Sonntag\, 22. Februar 2026. Alle Tickets behalten ihre Gültigkeit.\nE
 ingängige Riffs\, harte Drums und unverkennbare Vocals. Die ikonische Groov
 e Metal-Band Avatar kommt am Samstag\, 12. Dezember 2026 in den Komplex 475
  nach Zürich! \nAvatar haben bereits neun Studioalben veröffentlicht – und 
 mit jedem einzelnen setzen sie noch einen drauf. 2012 erschien ihr viertes 
 Album Black Waltz und zeitgleich ging es auch mit markanten Zirkus-Look so 
 richtig los. ... [Read more...]
X-ALT-DESC;FMTTYPE=text/html: <p><a href="https://avatarmetal.com/" rel="no
 opener" target="_blank">Avatar</a></p><p><strong>In The Airwaves</strong></
 p><p>Nachholtermin für das abgesagt Konzert vom Sonntag\, 22. Februar 2026.
  Alle Tickets behalten ihre Gültigkeit.</p><p>Eingängige Riffs\, harte Drum
 s und unverkennbare Vocals. Die ikonische Groove Metal-Band Avatar kommt am
  Samstag\, 12. Dezember 2026 in den Komplex 475 nach Zürich! </p><p>Avatar 
 haben bereits neun Studioalben veröffentlicht – und mit jedem einzelnen set
 zen sie noch einen drauf. 2012 erschien ihr viertes Album Black Waltz und z
 eitgleich ging es auch mit markanten Zirkus-Look so richtig los. Seitdem ge
 ht's für Avatar nur noch in eine Richtung: steil nach oben!</p><p>Nach dem 
 grossen Erfolg von ihrem letzten Album Dance Devil Dance aus dem Jahr 2023 
 kehren sie nun zurück und machen auch in der Schweiz mit ihrem ikonischen M
 etal Circus halt!</p><p>Die Live Show von Avatar ist etwas\, was man erlebt
  haben muss. Mit grenzenloser Energie und ihrem unverkennbaren Mix aus Meta
 l und Theater\, reissen sie das Publikum mit Songs wie Hail The Apocalypse\
 , The Dirt I’m Buried In oder The Eagle Has Landed\, mit und garantieren ei
 nen Abend\, welchen man nicht allzu schnell vergisst. </p><p>Ein Muss für a
 lle Metal-Fans! Jetzt Tickets via ticketcorner.ch sichern! </p><p><span sty
 le="color: #c86079\;">Ein <strong>ARTNOIR</strong> Partner-Event</span></p>
CATEGORIES:Metal,Partner-Event
LOCATION:Komplex 457
GEO:47.387269;8.499988
ORGANIZER;CN="JHG Shark":MAILTO:webmaster@jhgshark.ch
URL;VALUE=URI:https://artnoir.ch/events/event/avatar-2026-12-12/
ATTACH;FMTTYPE=image/jpeg:https://artnoir.ch/wp-content/uploads/2026/02/2026-12-12-Avatar.jpg
END:VEVENT
BEGIN:VTIMEZONE
TZID:Europe/Zurich
BEGIN:STANDARD
TZOFFSETFROM:+0200
TZOFFSETTO:+0100
DTSTART:20261025T010000
TZNAME:CET
END:STANDARD
END:VTIMEZONE
END:VCALENDAR
