BEGIN:VCALENDAR
VERSION:2.0
PRODID:-//ARTNOIR//NONSGML Events//EN
CALSCALE:GREGORIAN
X-ORIGINAL-URL:https://artnoir.ch/events/event/
X-WR-CALDESC:ARTNOIR - Events
BEGIN:VEVENT
UID:20260322T0203Z-1774145005.0978-EO-262014-1@10.0.9.48
STATUS:CONFIRMED
DTSTAMP:20260423T232039Z
CREATED:20260318T114000Z
LAST-MODIFIED:20260318T114220Z
DTSTART;TZID=Europe/Zurich:20260602T193000
DTEND;TZID=Europe/Zurich:20260602T223000
SUMMARY: Authority Zero
DESCRIPTION: Authority Zero\n+ Melonball\nSummer Sickness? Die kommt mit Au
 thority Zero garantiert nicht auf. Das Quartett aus Arizona prescht mit ein
 er gekonnten Mischung aus klassischem Skate-Punk\, melodischem Hardcore und
  einer Prise Reggae nach vorne und fegt jegliche bad vibes weg. Mit ihren r
 egelmässigen Outputs knüpfen die Jungs um Sänger Jason DeVore immer druckvo
 ll an die Vorgänger an und glänzen aktuell mit dem Abwechlsungsreichtum von
  „30 Years: Speaking To The Youth“. ... [Read more...]
X-ALT-DESC;FMTTYPE=text/html: <p><a href="https://authorityzero.com/" rel="
 noopener" target="_blank">Authority Zero</a><br />+ <a href="https://www.me
 lonballpunkrock.com/" rel="noopener" target="_blank">Melonball</a></p><p>Su
 mmer Sickness? Die kommt mit <strong>Authority Zero</strong> garantiert nic
 ht auf. Das Quartett aus Arizona prescht mit einer gekonnten Mischung aus k
 lassischem Skate-Punk\, melodischem Hardcore und einer Prise Reggae nach vo
 rne und fegt jegliche bad vibes weg. Mit ihren regelmässigen Outputs knüpfe
 n die Jungs um Sänger Jason DeVore immer druckvoll an die Vorgänger an und 
 glänzen aktuell mit dem Abwechlsungsreichtum von "30 Years: Speaking To The
  Youth". Wer das Arizona-Quartett jedoch schonmal live gesehen hat\, weiss\
 , dass die eigentliche Begeisterung für diese Truppe bei ihrer Bühnenpräsen
 z liegt - was für eine Wucht! Eine Live-Perle\, die unsere Sprunggelenke an
 s Limit bringen wird: "First one in the pit and the last one out!"</p><p>Er
 öffnet wird der Abend von den Genregeschwister <strong>Melonball</strong>. 
 Mit schnellen Pogo-Rhythmen und melodischen Hardcore-Elementen versetzt uns
  das deutsche Quintett als Erste in die 90s-Skatepunk-Ära zurück.</p>
CATEGORIES:Punk
LOCATION:Werk 21
GEO:47.383312;8.539341
ORGANIZER;CN="JHG Shark":MAILTO:webmaster@jhgshark.ch
URL;VALUE=URI:https://artnoir.ch/events/event/authority-zero-2026-06-02/
ATTACH;FMTTYPE=image/jpeg:https://artnoir.ch/wp-content/uploads/2026/03/authority-zero-2026-06-02.jpg
END:VEVENT
BEGIN:VTIMEZONE
TZID:Europe/Zurich
BEGIN:DAYLIGHT
TZOFFSETFROM:+0100
TZOFFSETTO:+0200
DTSTART:20260329T010000
TZNAME:CEST
END:DAYLIGHT
END:VTIMEZONE
END:VCALENDAR
