BEGIN:VCALENDAR
VERSION:2.0
PRODID:-//ARTNOIR//NONSGML Events//EN
CALSCALE:GREGORIAN
X-ORIGINAL-URL:https://artnoir.ch/events/event/
X-WR-CALDESC:ARTNOIR - Events
BEGIN:VEVENT
UID:20260423T2322Z-1776986572.0535-EO-263439-1@10.0.9.48
STATUS:CONFIRMED
DTSTAMP:20260424T012252Z
CREATED:20260423T164300Z
LAST-MODIFIED:20260423T164523Z
DTSTART;TZID=Europe/Zurich:20260905T203000
DTEND;TZID=Europe/Zurich:20260905T235900
SUMMARY: ATLAS
DESCRIPTION: ATLAS\n+ Sunborn\nATLAS aus Finnland – ein unverkennbares nord
 isches Phänomen des Modern Metal. Seit ihrer Gründung im Jahr 2015 haben si
 ch sowohl der Sound als auch die ausdrucksstarke Bildsprache der Band zu ei
 ner Verschmelzung aus erdrückender Härte und eindringlicher Verletzlichkeit
  entwickelt. Nach Jahren harter Arbeit hat die Band ihre feste Besetzung ge
 funden\, bestehend aus Mitgliedern\, die sich und ihr Leben ganz der Musik 
 verschrieben haben. ... [Read more...]
X-ALT-DESC;FMTTYPE=text/html: <p><a href="https://www.atlas-northcore.com/"
  rel="noopener" target="_blank">ATLAS</a><br />+ <a href="https://www.faceb
 ook.com/sunbornfr/" rel="noopener" target="_blank">Sunborn</a></p><p><stron
 g>ATLAS</strong> aus Finnland - ein unverkennbares nordisches Phänomen des 
 Modern Metal. Seit ihrer Gründung im Jahr 2015 haben sich sowohl der Sound 
 als auch die ausdrucksstarke Bildsprache der Band zu einer Verschmelzung au
 s erdrückender Härte und eindringlicher Verletzlichkeit entwickelt. Nach Ja
 hren harter Arbeit hat die Band ihre feste Besetzung gefunden\, bestehend a
 us Mitgliedern\, die sich und ihr Leben ganz der Musik verschrieben haben. 
 Der Sound der Band ist in einem Jahrzehnt zu einer Mischung aus verschieden
 en Genres und Sounds gereift.</p><p><strong>Sunborn</strong> ist eine Nu-Al
 t Pop Band aus Montpellier in Südfrankreich. Die Gruppe experimentierfreudi
 ger Musiker hat es sich zum Ziel gesetzt\, unkonventionelle Einflüsse zu ve
 rschmelzen\, indem sie die Kluft zwischen digitaler und analoger Kunst über
 brückt und dabei moderne Klänge einbezieht. Sunborn wirft ein neues Licht a
 uf das\, was klanglich möglich ist.</p>
CATEGORIES:Metal
LOCATION:Gaswerk
GEO:47.494529;8.707780
ORGANIZER;CN="JHG Shark":MAILTO:webmaster@jhgshark.ch
URL;VALUE=URI:https://artnoir.ch/events/event/atlas-2026-09-05/
ATTACH;FMTTYPE=image/jpeg:https://artnoir.ch/wp-content/uploads/2026/04/atlas-2026-09-05.jpg
END:VEVENT
BEGIN:VTIMEZONE
TZID:Europe/Zurich
BEGIN:DAYLIGHT
TZOFFSETFROM:+0100
TZOFFSETTO:+0200
DTSTART:20260329T010000
TZNAME:CEST
END:DAYLIGHT
END:VTIMEZONE
END:VCALENDAR
