BEGIN:VCALENDAR
VERSION:2.0
PRODID:-//ARTNOIR//NONSGML Events//EN
CALSCALE:GREGORIAN
X-ORIGINAL-URL:https://artnoir.ch/events/event/
X-WR-CALDESC:ARTNOIR - Events
BEGIN:VEVENT
UID:20260203T1135Z-1770118540.2665-EO-259552-1@10.0.9.48
STATUS:CONFIRMED
DTSTAMP:20260423T234638Z
CREATED:20260201T121055Z
LAST-MODIFIED:20260220T140858Z
DTSTART;TZID=Europe/Zurich:20260530T203000
DTEND;TZID=Europe/Zurich:20260530T235900
SUMMARY: Asbest & Coilguns
DESCRIPTION: Asbest & Coilguns\nAsbest veröffentlichte 2017 ihre erste EP „
 INTERSTATES“. Die positive Resonanz darauf\, die Live-Präsenz und kulturell
 e Förderung\, führten dazu\, dass die Band in Bristol ihr Debutalbum “DRIVE
 N” (A TREE IN A FIELD RECORDS\, 2018) aufnehmen konnte. Diese Veröffentlich
 ung erlaubte der Band weitere nationale und internationale Schritte: Gewinn
  Demotape Clinic M4Music 2019 (Kategorie Rock und Demo of the Year)\, Festi
 val in Tunesien\, zwei Europa-Tourneen sowie die Teilnahme am Eurosonic Noo
 rderslag 2020. ... [Read more...]
X-ALT-DESC;FMTTYPE=text/html: <p><a href="https://www.facebook.com/asbestno
 ise/" rel="noopener" target="_blank">Asbest</a> & <a href="https://coilguns
 .ch/" rel="noopener" target="_blank">Coilguns</a></p><p><strong>Asbest</str
 ong> veröffentlichte 2017 ihre erste EP „INTERSTATES“. Die positive Resonan
 z darauf\, die Live-Präsenz und kulturelle Förderung\, führten dazu\, dass 
 die Band in Bristol ihr Debutalbum “DRIVEN” (A TREE IN A FIELD RECORDS\, 20
 18) aufnehmen konnte. Diese Veröffentlichung erlaubte der Band weitere nati
 onale und internationale Schritte: Gewinn Demotape Clinic M4Music 2019 (Kat
 egorie Rock und Demo of the Year)\, Festival in Tunesien\, zwei Europa-Tour
 neen sowie die Teilnahme am Eurosonic Noorderslag 2020. Im Rahmen des Letzt
 eren strahlte der WDR Rockpalast ein Portrait und einen Live Zusammenschnit
 t des Konzertes aus. Die Band nutzte die Pandemie zur Arbeit an ihrem zweit
 en Album “CYANIDE”\, welches sie im Sommer 2021 in den Milberg Studios in S
 tuttgart aufgenommen hat.</p><p>Ursprünglich aus der DIY-Hardcore-Szene kom
 mend\, haben <strong>Coilguns</strong> seitdem ihre eigene Mischung aus ang
 episstem Punk und ekstatischem Noise-Rock kreiert. Die Geschichte der Band 
 ist tief mit der Entwicklung des eigenen Labels des Gitarristen Jona Nido -
  Hummus Records - verbunden\, das jetzt bis zu 150 Veröffentlichungen von S
 chweizer Künstlern aus allen klanglichen Hintergründen zusammenbringt. Obwo
 hl ihre letzten beiden Alben zu 100 % selbst produziert\, von den Bandmitgl
 iedern konstruiert und gemischt wurden\, fuhren Coilguns im Sommer 2022 mit
  Produzent Scott Evans zu Oceansound Recordings am Ende der Welt in Norwege
 n\, um ihr 4. Studioalbum zu verfolgen\, das dann vom Grammy-nominierten Pr
 oduzenten Tom Dalgety gemischt wurde. Die Band ist bekannt für ihre rohen\,
  kompromisslosen und euphorischen Live-Auftritte\, die stolz den Tanzfreaks
  und den crowd-surfenden Spinnern dienen.</p>
CATEGORIES:Punk
LOCATION:Kaserne
GEO:47.563445;7.590090
ORGANIZER;CN="JHG Shark":MAILTO:webmaster@jhgshark.ch
URL;VALUE=URI:https://artnoir.ch/events/event/asbest-and-coilguns-2026-05-3
 0/
ATTACH;FMTTYPE=image/jpeg:https://artnoir.ch/wp-content/uploads/2026/02/coilguns-2026-05-30.jpg
END:VEVENT
BEGIN:VTIMEZONE
TZID:Europe/Zurich
BEGIN:DAYLIGHT
TZOFFSETFROM:+0100
TZOFFSETTO:+0200
DTSTART:20260329T010000
TZNAME:CEST
END:DAYLIGHT
END:VTIMEZONE
END:VCALENDAR
