BEGIN:VCALENDAR
VERSION:2.0
PRODID:-//ARTNOIR//NONSGML Events//EN
CALSCALE:GREGORIAN
X-ORIGINAL-URL:https://artnoir.ch/events/event/
X-WR-CALDESC:ARTNOIR - Events
BEGIN:VEVENT
UID:20250915T1131Z-1757935873.3119-EO-252808-1@10.0.9.22
STATUS:CONFIRMED
DTSTAMP:20260423T215305Z
CREATED:20250912T113037Z
LAST-MODIFIED:20251205T135445Z
DTSTART;TZID=Europe/Zurich:20260404T190000
DTEND;TZID=Europe/Zurich:20260404T224500
SUMMARY: Archive
DESCRIPTION: Archive\n+ BOKKA\nArchive ist ein in Südlondon beheimatetes Mu
 sikkollektiv\, das für seine cineastischen Klanglandschaften\, genreübergre
 ifende Entwicklung und kompromisslose künstlerische Vision bekannt ist. Übe
 r drei Jahrzehnte hinweg\, mit immer neuen stilistischen Einflüssen und mit
 tlerweile zwölf Studioalben\, haben sich Archive als eine der beständigsten
  und zugleich experimentierfreudigsten britischen Bands etabliert.\nAm 27. 
 Februar 2026 erscheint nun ihr mit Spannung erwartetes 13. Studioalbum „Gla
 ss Minds“\, welches über das bandeigene Label Dangervisit in Kooperation mi
 t [PIAS] veröffentlicht wird. ... [Read more...]
X-ALT-DESC;FMTTYPE=text/html: <p><a href="https://linktr.ee/archiveofficial
 " rel="noopener" target="_blank">Archive</a><br />+ <a href="https://www.bo
 kkamusic.com/" rel="noopener" target="_blank">BOKKA</a></p><p>Archive ist e
 in in Südlondon beheimatetes Musikkollektiv\, das für seine cineastischen K
 langlandschaften\, genreübergreifende Entwicklung und kompromisslose künstl
 erische Vision bekannt ist. Über drei Jahrzehnte hinweg\, mit immer neuen s
 tilistischen Einflüssen und mittlerweile zwölf Studioalben\, haben sich Arc
 hive als eine der beständigsten und zugleich experimentierfreudigsten briti
 schen Bands etabliert.</p><p>Am 27. Februar 2026 erscheint nun ihr mit Span
 nung erwartetes 13. Studioalbum „Glass Minds“\, welches über das bandeigene
  Label Dangervisit in Kooperation mit [PIAS] veröffentlicht wird. Am Samsta
 g\, 04. April 2026\, präsentieren Archive ihre neuen Songs sowie Klassiker 
 aus ihrem umfangreichen Repertoire live im Salle Métropole in Lausanne.</p>
 <p>Im Jahr 1996 veröffentlichte die Band ihr von Kritikern gefeiertes Debüt
 album „Londinium“\, auf dem Archive Trip-Hop\, Rap und orchestrale Elemente
  auf eindrucksvolle Weise vereinten. In den darauffolgenden zwei Jahrzehnte
 n machten sich die Musiker einen Namen damit\, ihren Sound mit jedem Album 
 neu zu definieren – beeinflusst von Progressive Rock\, Electronica\, Soul u
 nd Post-Rock. Von den gefühlvollen Melodien auf „Take My Head“ (1999) bis h
 in zur epischen Klanglandschaft von „You All Look the Same to Me“ (2002) mi
 t dem 16-minütigen Meisterwerk „Again“ wurde ihre Musik zunehmend ambitioni
 erter und komplexer.</p><p>Mit wachsendem Erfolg in Frankreich und weiten T
 eilen Europas komponierte Archive den Soundtrack zu Luc Bessons Film Michel
  Vaillant und festigte ihren Ruf mit dem Album „Noise“ (2004)\, das ihnen d
 en europaweiten Durchbruch verschaffte. Es folgten weitere Meilensteine wie
  „Lights“ (2006) und die politisch aufgeladene „Controlling Crowds“-Serie (
 2009)\, in der Archive ihre lyrische Tiefe\, musikalische Vielschichtigkeit
  und ihre Fähigkeit zur gesellschaftskritischen Reflexion eindrucksvoll unt
 er Beweis stellten. „Until You’re Dead“ (2012)\, „Axiom“ (2014)\, „Restrict
 ion“ (2015) und „The False Foundation“ (2016) – trieben die kreativen Grenz
 en weiter voran.</p><p>Die immersiven Live-Shows von Archive unterstreichen
  ihr ständiges Streben nach Innovation. Nach langjähriger furchtloser musik
 alischer Weiterentwicklung schafft die Band weiterhin Musik\, die emotional
  wie intellektuell berührt und die weltweit treue Fangemeinde begeistert.</
 p>
CATEGORIES:Electro,Pop,Rock
LOCATION:Salle Métropole
GEO:46.522006;6.628051
ORGANIZER;CN="Nicole Wild":MAILTO:nic.wild@yahoo.com
URL;VALUE=URI:https://artnoir.ch/events/event/archive-2026-04-04/
ATTACH;FMTTYPE=image/jpeg:https://artnoir.ch/wp-content/uploads/2025/09/archive-2026-04-04.jpg
END:VEVENT
BEGIN:VTIMEZONE
TZID:Europe/Zurich
BEGIN:DAYLIGHT
TZOFFSETFROM:+0100
TZOFFSETTO:+0200
DTSTART:20260329T010000
TZNAME:CEST
END:DAYLIGHT
END:VTIMEZONE
END:VCALENDAR
