BEGIN:VCALENDAR
VERSION:2.0
PRODID:-//ARTNOIR//NONSGML Events//EN
CALSCALE:GREGORIAN
X-ORIGINAL-URL:https://artnoir.ch/events/event/
X-WR-CALDESC:ARTNOIR - Events
BEGIN:VEVENT
UID:20260215T1844Z-1771181058.7081-EO-260364-1@10.0.9.48
STATUS:CONFIRMED
DTSTAMP:20260423T230710Z
CREATED:20260214T155818Z
LAST-MODIFIED:20260214T155818Z
DTSTART;TZID=Europe/Zurich:20260422T190000
DTEND;TZID=Europe/Zurich:20260422T235900
SUMMARY: Archers
DESCRIPTION: Archers\n+ Lost In Hollywood\nDiese Band steht für eine Energi
 e\, die Grenzen sprengt. Vor allem an ihren Live-Shows\, bei denen Band und
  Moshpit eins werden\, aber auch musikalisch. Unter dem Banner Archers vers
 chmelzen Frontmann Nathanael Pulley\, Gitarrist Ben Koehler\, Bassist Oscar
  Porter und Schlagzeuger Grayson Mesarosh ihre gemeinsame Liebe für Metal\,
  Core\, Pop und Emo. Tonnenschwere Riffs treffen so auf elektronische Einsp
 rengsel und eingängige Hooklines. ... [Read more...]
X-ALT-DESC;FMTTYPE=text/html: <p><a href="https://www.instagram.com/archers
 us/" rel="noopener" target="_blank">Archers</a><br />+ <a href="https://los
 tinhollywood.de/" rel="noopener" target="_blank">Lost In Hollywood</a></p><
 p>Diese Band steht für eine Energie\, die Grenzen sprengt. Vor allem an ihr
 en Live-Shows\, bei denen Band und Moshpit eins werden\, aber auch musikali
 sch. Unter dem Banner <strong>Archers</strong> verschmelzen Frontmann Natha
 nael Pulley\, Gitarrist Ben Koehler\, Bassist Oscar Porter und Schlagzeuger
  Grayson Mesarosh ihre gemeinsame Liebe für Metal\, Core\, Pop und Emo. Ton
 nenschwere Riffs treffen so auf elektronische Einsprengsel und eingängige H
 ooklines. Das ist intensiv\, das ist kompromisslos und eben doch auch verda
 mmt catchy und so erstaunt es nicht\, dass ihr für ihren kometenhaften Aufs
 tieg innerhalb der Metalcore-Szene kein Halt in Sicht ist. «Temporary High»
  scheint da als Titel für ihre aktuelle EP schon fast zu viel der Bescheide
 nheit.</p>
CATEGORIES:Metal
LOCATION:KIFF
GEO:47.398757;8.063867
ORGANIZER;CN="JHG Shark":MAILTO:webmaster@jhgshark.ch
URL;VALUE=URI:https://artnoir.ch/events/event/archers-2024-04-22/
ATTACH;FMTTYPE=image/jpeg:https://artnoir.ch/wp-content/uploads/2026/02/archers-2024-04-22.jpg
END:VEVENT
BEGIN:VTIMEZONE
TZID:Europe/Zurich
BEGIN:DAYLIGHT
TZOFFSETFROM:+0100
TZOFFSETTO:+0200
DTSTART:20260329T010000
TZNAME:CEST
END:DAYLIGHT
END:VTIMEZONE
END:VCALENDAR
