BEGIN:VCALENDAR
VERSION:2.0
PRODID:-//ARTNOIR//NONSGML Events//EN
CALSCALE:GREGORIAN
X-ORIGINAL-URL:https://artnoir.ch/events/event/
X-WR-CALDESC:ARTNOIR - Events
BEGIN:VEVENT
UID:20260329T0617Z-1774765046.3155-EO-262280-1@10.0.9.48
STATUS:CONFIRMED
DTSTAMP:20260423T215621Z
CREATED:20260326T124631Z
LAST-MODIFIED:20260327T124017Z
DTSTART;VALUE=DATE:20260602
DTEND;VALUE=DATE:20260607
SUMMARY: ANTE Festival
DESCRIPTION: Programm\nTanzend den Sonnenuntergang geniessen – mit Drink in
  der einen und Food in der anderen Hand. Die ANTE Konzertreihe steht wieder
  bevor und lädt dazu ein\, auf dem wunderschönen Bäumli in Winterthur mit F
 reund:innen und Familie Live-Musik zu erleben.\nWir freuen uns\, ein vielfä
 ltiges\, überraschendes und künstlerisches Line Up präsentieren und euch ba
 ld auf dem Bäumli willkommen heissen zu dürfen!\nMUSIK VOR ALLEM\nDas Line-
 Up für die ANTE Konzertreihe steht – das OK freut sich\, ... [Read more...]
X-ALT-DESC;FMTTYPE=text/html: <p><a href="https://winterthur.antekonzerte.c
 h/programm" rel="noopener" target="_blank">Programm</a></p><p>Tanzend den S
 onnenuntergang geniessen – mit Drink in der einen und Food in der anderen H
 and. Die ANTE Konzertreihe steht wieder bevor und lädt dazu ein\, auf dem w
 underschönen Bäumli in Winterthur mit Freund:innen und Familie Live-Musik z
 u erleben.</p><p>Wir freuen uns\, ein vielfältiges\, überraschendes und kün
 stlerisches Line Up präsentieren und euch bald auf dem Bäumli willkommen he
 issen zu dürfen!</p><p>MUSIK VOR ALLEM<br />Das Line-Up für die ANTE Konzer
 treihe steht – das OK freut sich\, internationale Grössen und aufstrebende 
 Schweizer Acts auf der lauschigen Bühne begrüssen zu dürfen!</p><p>Den Auft
 akt macht Lost in Lona als Supportband\, ein Duo aus Basel und Zürich\, wel
 ches mit tragenden Stimmen und rauen Gitarrensounds emotionale Momente krei
 ert.</p><p>Ein weiteres Highlight ist bac\, welcher mit seinem Song „Rosaro
 ter Tee“ durch die Decke ging und jetzt – mit nur 21 Jahren – auf allen mög
 lichen Bühnen steht. Jensen McRae\, die moderne Muse der Folk-Szene rundet 
 das ANTE 2026 mit ihrer unterschütterlichen Ehrlichkeit und unverfälschten 
 Lyrik ab.</p><p>Die Konzertreihe hält an ihrem Slogan „Musik vor allem“ fes
 t: Beim ANTE dreht sich alles um die Konzerte\, die auf der kleinen Zeltbüh
 ne stattfinden\, inmitten von grüner Wiese\, grossen Bäumen und Blick über 
 die Stadt Winterthur. Ergänzt wird das Programm nur durch Food- und Getränk
 eangebot\, sodass die Live-Musik nicht von Hunger- oder Durstgefühlen gestö
 rt wird.</p>
CATEGORIES:Electro,Pop,Rock
LOCATION:Bäumli
GEO:47.504959;8.743437
ORGANIZER;CN="ARTNOIR":MAILTO:info@artnoir.ch
URL;VALUE=URI:https://artnoir.ch/events/event/ante-festival-2026/
ATTACH;FMTTYPE=image/jpeg:https://artnoir.ch/wp-content/uploads/2024/03/ante-festival-2024.jpg
END:VEVENT
BEGIN:VTIMEZONE
TZID:Europe/Zurich
BEGIN:DAYLIGHT
TZOFFSETFROM:+0100
TZOFFSETTO:+0200
DTSTART:20260329T010000
TZNAME:CEST
END:DAYLIGHT
END:VTIMEZONE
END:VCALENDAR
