BEGIN:VCALENDAR
VERSION:2.0
PRODID:-//ARTNOIR//NONSGML Events//EN
CALSCALE:GREGORIAN
X-ORIGINAL-URL:https://artnoir.ch/events/event/
X-WR-CALDESC:ARTNOIR - Events
BEGIN:VEVENT
UID:20260413T0213Z-1776046405.626-EO-262911-1@10.0.9.48
STATUS:CONFIRMED
DTSTAMP:20260424T010211Z
CREATED:20260411T142606Z
LAST-MODIFIED:20260411T142817Z
DTSTART;TZID=Europe/Zurich:20260618T210000
DTEND;TZID=Europe/Zurich:20260618T235900
SUMMARY: Annie Taylor
DESCRIPTION: Annie Taylor\nNeues Album «Out of Scale» von Annie Taylor – Ni
 e aufhören zu träumen.\nDie Songs mussten einfach raus. Zwischen der US-Tou
 r der Rockband und Konzerten in Europa nahmen Annie Taylor ihr drittes Albu
 m auf. Es heißt «Out of Scale» und ist geprägt von intensiven Gefühlen\, ch
 aotischen Beziehungen und großen Träumen. Mal leidet Sängerin Gini Jungi\, 
 ist verletzt und kämpft\, mal schwebt ihre Stimme sehnsüchtig über den Gita
 rrenläufen von Tobias Arn. ... [Read more...]
X-ALT-DESC;FMTTYPE=text/html: <p><a href="https://www.annietaylorband.com/"
  rel="noopener" target="_blank">Annie Taylor</a></p><p>Neues Album «Out of 
 Scale» von Annie Taylor - Nie aufhören zu träumen.</p><p>Die Songs mussten 
 einfach raus. Zwischen der US-Tour der Rockband und Konzerten in Europa nah
 men Annie Taylor ihr drittes Album auf. Es heißt «Out of Scale» und ist gep
 rägt von intensiven Gefühlen\, chaotischen Beziehungen und großen Träumen. 
 Mal leidet Sängerin Gini Jungi\, ist verletzt und kämpft\, mal schwebt ihre
  Stimme sehnsüchtig über den Gitarrenläufen von Tobias Arn. Und wenn der Ba
 ss von Michael Mutter und das Schlagzeug von Daniel Bachmann einsetzen\, is
 t klar\, dass jeder dieser neuen Songs das Publikum zum Tanzen bringen kann
 . Für ihre Live-Shows ist die Band bekannt\, die sich in einer Bar in den S
 chweizer Bergen nach dem Snowboarden kennenlernte und bereits auf dem SXSW\
 , bei der ikonischen Radiostation KEXP in Seattle\, auf dem Levitation Fest
 ival in Austin\, dem Great Escape und dem Reeperbahn Festival spielte. Auf 
 «Out of Scale» haben Annie Taylor ihren Sound nochmals weiterentwickelt. Da
 s erste Album «Sweet Mortality» machte die Band scheinbar aus dem Nichts in
 ternational bekannt. Das zweite\, «Inner Smile»\, nahmen sie in England auf
 \; es war rauer\, ehrlicher. Und jetzt haben sie ihren Stil nochmals geschä
 rft. Jeder Song klingt anders und muss doch zwangsläufig auf den nächsten f
 olgen. Auf verzerrte Gitarre und selbstermächtigenden Wut-Grunge folgt repe
 titive Psychedelia - und dann ein nachdenklicher Song\, ruhig schon fast: i
 rgendwo zwischen Courtney Barnett und Wet Leg. Ein großer Teil der neuen Mu
 sik ist im Sommer entstanden\, als Zürich fast leer war\, weil alle in die 
 Ferien verreisten. Sängerin Gini Jungi erinnert sich an den Geschmack von S
 onnencréme und Salz auf ihrer Haut. An Sommerkleider. Und an unendlich viel
  Zeit zum Nachdenken. Manchmal fühlte sich das gut an\, dann\, wenn sich ei
 ne Nacht ohne Plan entwickelte\, im Limbo\, und sie trotzdem eine krasse Kl
 arheit spürte. Manchmal saß sie aber auch auf ihrem Teppich in der Wohnung\
 , fühlte sich allein\, spielte Gitarre\, spürte Verlust\, aber auch Dankbar
 keit. Auf Festivals\, auf langen Busfahrten und bei späten Shows war sich d
 ie Bandmitglieder sehr nahe. Fast nahtlos konnten sie sich so in die Texte 
 von Sängerin Gini Jungi einfühlen und diese gemeinsam vertonen. Viele Liede
 r auf «Out of Scale» handeln von Freundschaften und Liebesbeziehungen. Sich
  sicher fühlen\, euphorisch sein\, weil eine Person einem die Schönheit der
  Welt zeigt. Erinnerungen an eine Zeit\, in der alles gut war. Dann kommen 
 die Zweifel. Etwas stimmt nicht mehr. «I am not your answer». Ich bin nicht
  deine Antwort. «And I am not your cure». Und ich bin nicht deine Heilung. 
 Songs wie «The Ocean» oder «Something ain’t right» finden Melodien für dies
 e Stimmung\, diesem Mix aus Verlangen\, Sehnsucht und Trost. Mal ist Gini J
 ungis Stimme im Hintergrund und reduziert\, dann\, plötzlich\, bricht der N
 ebel auf\, und sie ist ganz nah. Mit der Veröffentlichung des neuen Albums 
 wechselt die Band zum Label Clouds Hill. Neu wird auch Bassist Josip Tijan 
 Annie Taylor verstärken und frischen Schwung reinbringen. Das visuelle Konz
 ept haben Kevin Högger\, Studio Végété und Quentin Lacombe gestaltet. Der M
 ix aus zeitgenössischem Grafikdesign\, experimenteller Kunst und Popästheti
 k spiegelt die Reibung und die Offenheit wider\, die das Album auszeichnet.
  Sein Ding machen\, auch wenn es vielleicht nicht der direkte Weg ist\, «Ou
 t of Scale»\, außerhalb der konformen Maßstäbe eben - das ist die Botschaft
 \, die das Album trägt und die schon im Bandnamen steckt. Annie Edson Taylo
 r war eine Lehrerin aus den USA\, die ein unruhiges Leben führte und aneckt
 e. 1901 stürzte sie sich als erster Mensch in einem Fass die Niagarafälle h
 inunter. Verletzt war sie nur am Hinterkopf. Die neuen Songs von Annie Tayl
 or berühren\, weil sie sehr roh und intim sind. Weil sie auch schwierigen Z
 eiten den Platz einräumen\, den sie verdienen. Und weil sie Neuanfänge zula
 ssen. Schon der Opener «Alligator» macht sofort wach\, klingt\, als ginge e
 s im Bandraum um alles und zeigt\, dass nach dem Hadern oft die Erkenntnis 
 kommt: Ich muss mich nicht klein machen\, mich auflösen\, mich bücken. Ich 
 kann selbst etwas an der Situation ändern. «Out of Scale» motiviert dazu\, 
 nie mit dem Träumen aufzuhören. Sich immer wieder neu zu erfinden. Und dem 
 Stillstand entgegenzuhalten.</p>
CATEGORIES:Rock
LOCATION:Sous le Pont &amp\; Rössli Bar
GEO:46.953177;7.440255
ORGANIZER;CN="JHG Shark":MAILTO:webmaster@jhgshark.ch
URL;VALUE=URI:https://artnoir.ch/events/event/annie-taylor-2026-06-18/
ATTACH;FMTTYPE=image/jpeg:https://artnoir.ch/wp-content/uploads/2026/04/annie-taylor-2026-06-18.jpg
END:VEVENT
BEGIN:VTIMEZONE
TZID:Europe/Zurich
BEGIN:DAYLIGHT
TZOFFSETFROM:+0100
TZOFFSETTO:+0200
DTSTART:20260329T010000
TZNAME:CEST
END:DAYLIGHT
END:VTIMEZONE
END:VCALENDAR
