BEGIN:VCALENDAR
VERSION:2.0
PRODID:-//ARTNOIR//NONSGML Events//EN
CALSCALE:GREGORIAN
X-ORIGINAL-URL:https://artnoir.ch/events/event/
X-WR-CALDESC:ARTNOIR - Events
BEGIN:VEVENT
UID:20251130T1225Z-1764505506.677-EO-257095-1@10.0.9.48
STATUS:CONFIRMED
DTSTAMP:20260424T000901Z
CREATED:20251128T124408Z
LAST-MODIFIED:20251128T124529Z
DTSTART;TZID=Europe/Zurich:20261111T173000
DTEND;TZID=Europe/Zurich:20261111T230000
SUMMARY: Amon Amarth
DESCRIPTION: Amon Amarth\n+ Orbit Culture\n+ Soilwork\nDie Könige des Vikin
 g Metal live in Zürich\nMit Alben wie Twilight Of The Thunder God oder dem 
 gefeierten Jomsviking haben sie Massstäbe gesetzt – musikalisch wie auch li
 ve. Nach all den Jahren harter Arbeit gelten Amon Amarth heute als einer de
 r explosivsten und imposantesten Live-Acts der Metal-Welt. Von Headliner-Sh
 ows auf Festivals in ganz Europa bis hin zu ausgedehnten Touren rund um den
  Globus haben sie dem abenteuerlichen Ethos ihrer Wikinger-Ahnen alle Ehre 
 gemacht und ihre Musik in die Welt hinausgetragen. ... [Read more...]
X-ALT-DESC;FMTTYPE=text/html: <p><a href="https://www.amonamarth.com/" rel=
 "noopener" target="_blank">Amon Amarth</a><br />+ <a href="https://www.orbi
 tculture.com/" rel="noopener" target="_blank">Orbit Culture</a><br />+ <a h
 ref="https://www.soilwork.org/" rel="noopener" target="_blank">Soilwork</a>
 </p><p><strong>Die Könige des Viking Metal live in Zürich</strong></p><p>Mi
 t Alben wie Twilight Of The Thunder God oder dem gefeierten Jomsviking habe
 n sie Massstäbe gesetzt – musikalisch wie auch live. Nach all den Jahren ha
 rter Arbeit gelten Amon Amarth heute als einer der explosivsten und imposan
 testen Live-Acts der Metal-Welt. Von Headliner-Shows auf Festivals in ganz 
 Europa bis hin zu ausgedehnten Touren rund um den Globus haben sie dem aben
 teuerlichen Ethos ihrer Wikinger-Ahnen alle Ehre gemacht und ihre Musik in 
 die Welt hinausgetragen.</p><p>Die Songs ihres aktuellen Albums The Great H
 eathen Army erzählen von Mut\, Aufbruch und Entschlossenheit\, inspiriert v
 on historischen Ereignissen und alten Sagen. Amon Amarth vereinen rohe Kraf
 t mit erzählerischer Tiefe und präsentieren ein Werk\, das auch live für Gä
 nsehautmomente sorgt.</p><p>An diesem Abend werden sie von zwei starken Spe
 cial Guests begleitet: <strong>Orbit Culture</strong>\, die mit ihrem moder
 nen\, düsteren Sound weltweit für Aufsehen sorgen sowie den schwedischen Me
 lodic Death Metal-Veteranen <strong>Soilwork</strong>\, die seit Jahren mit
  eindrucksvoller Bühnenpräsenz überzeugen.</p><p>Ein Abend voller Intensitä
 t\, wuchtiger Melodien und epischer Stimmung erwartet euch. Amon Amarth hab
 en den Wind Odins in ihren Segeln – und er weht stärker denn je!</p><p>Jetz
 t Tickets via ticketcorner.ch sichern.</p>
CATEGORIES:Metal
LOCATION:The Hall
GEO:47.396025;8.597894
ORGANIZER;CN="JHG Shark":MAILTO:webmaster@jhgshark.ch
URL;VALUE=URI:https://artnoir.ch/events/event/amon-amarth-2026-11-11/
ATTACH;FMTTYPE=image/jpeg:https://artnoir.ch/wp-content/uploads/2025/11/amon-amarth-2026-11-11.jpg
END:VEVENT
BEGIN:VTIMEZONE
TZID:Europe/Zurich
BEGIN:STANDARD
TZOFFSETFROM:+0200
TZOFFSETTO:+0100
DTSTART:20261025T010000
TZNAME:CET
END:STANDARD
END:VTIMEZONE
END:VCALENDAR
