BEGIN:VCALENDAR
VERSION:2.0
PRODID:-//ARTNOIR//NONSGML Events//EN
CALSCALE:GREGORIAN
X-ORIGINAL-URL:https://artnoir.ch/events/event/
X-WR-CALDESC:ARTNOIR - Events
BEGIN:VEVENT
UID:20260403T0929Z-1775208574.9427-EO-262555-1@10.0.9.48
STATUS:CONFIRMED
DTSTAMP:20260424T014247Z
CREATED:20260401T170552Z
LAST-MODIFIED:20260401T170627Z
DTSTART;TZID=Europe/Zurich:20260811T190000
DTEND;TZID=Europe/Zurich:20260811T230000
SUMMARY: Amenra
DESCRIPTION: Amenra\nDie belgische Metal-Band Amenra entstand Anfang der 20
 00er Jahre mit einem vielseitigen Sound\, der seine Wurzeln in den Genres D
 oom\, Sludge\, Post-Metal und Hardcore-Punk hat. Die Gruppe veröffentlichte
  2003 ihr erstes Album «Mass I» und setzte mit gefeierten Alben wie «Mass V
 » (2012) und «De Doorn» (2021) weiterhin neue Massstäbe. Amenra besteht aus
  Sänger Colin H. van Eeckhout\, Gitarrist Mathieu Vandekerckhove\, Schlagze
 uger Bjorn Lebon\, Gitarrist Lennart Bossu und Bassistin Amy Tung Barrysmit
 h. ... [Read more...]
X-ALT-DESC;FMTTYPE=text/html: <p><a href="https://www.churchofra.com/" targ
 et="_blank" rel="noopener">Amenra</a></p><p>Die belgische Metal-Band <stron
 g>Amenra</strong> entstand Anfang der 2000er Jahre mit einem vielseitigen S
 ound\, der seine Wurzeln in den Genres Doom\, Sludge\, Post-Metal und Hardc
 ore-Punk hat. Die Gruppe veröffentlichte 2003 ihr erstes Album «Mass I» und
  setzte mit gefeierten Alben wie «Mass V» (2012) und «De Doorn» (2021) weit
 erhin neue Massstäbe. Amenra besteht aus Sänger Colin H. van Eeckhout\, Git
 arrist Mathieu Vandekerckhove\, Schlagzeuger Bjorn Lebon\, Gitarrist Lennar
 t Bossu und Bassistin Amy Tung Barrysmith. Mit ihrem letzten Album «De Door
 n» brach die Band ihre «Mass»-Reihe\, wobei sie sich von tiefschwarz zu ein
 em helleren Ausdruck bewegte. Laut der Band ist dies das Album\, das das wa
 hre Gesicht von Amenra zeigt\, mit mehr Storytelling\, mehr akustischen Par
 ts und schliesslich in der Sprache\, die ihnen am nächsten steht: Flämisch.
 </p>
CATEGORIES:Metal
LOCATION:Schüür
GEO:47.044653;8.311234
ORGANIZER;CN="ARTNOIR":MAILTO:info@artnoir.ch
URL;VALUE=URI:https://artnoir.ch/events/event/amenra-2026-08-11/
ATTACH;FMTTYPE=image/jpeg:https://artnoir.ch/wp-content/uploads/2026/04/2026-08-11-Amenra.jpg
END:VEVENT
BEGIN:VTIMEZONE
TZID:Europe/Zurich
BEGIN:DAYLIGHT
TZOFFSETFROM:+0100
TZOFFSETTO:+0200
DTSTART:20260329T010000
TZNAME:CEST
END:DAYLIGHT
END:VTIMEZONE
END:VCALENDAR
