BEGIN:VCALENDAR
VERSION:2.0
PRODID:-//ARTNOIR//NONSGML Events//EN
CALSCALE:GREGORIAN
X-ORIGINAL-URL:https://artnoir.ch/events/event/
X-WR-CALDESC:ARTNOIR - Events
BEGIN:VEVENT
UID:20260208T2008Z-1770581328.8334-EO-259792-1@10.0.9.48
STATUS:CONFIRMED
DTSTAMP:20260423T215605Z
CREATED:20260206T154223Z
LAST-MODIFIED:20260227T124157Z
DTSTART;TZID=Europe/Zurich:20260530T180000
DTEND;TZID=Europe/Zurich:20260530T235900
SUMMARY: Alles Post- Musik Fest
DESCRIPTION: Line-up\nHerzlich willkommen zum Alles Post- MusikFest! Vol. I
 V\nWir präsentieren stolz ein einzigartiges Musikfestival\, das sich dem Po
 st-Punk\, Post-Rock\, Alternative und Experimental Musik widmet. Das Festiv
 al findet am Samstag 30.05.2026 in der Dynamo/Werk21 statt und verspricht e
 in unvergessliches Erlebnis für alle Musikliebhaber. Wir haben eine beeindr
 uckende Aufstellung von Bands und Künstlern aus der Schweiz zusammengestell
 t\, die die Grenzen der herkömmlichen Musikgenres sprengen werden. Von ener
 getischen Post-Punk-Bands über experimentelle Klänge bis hin zu hypnotisier
 enden Post-Rock-Auftritten ist für jeden Geschmack etwas dabei. ... [Read m
 ore...]
X-ALT-DESC;FMTTYPE=text/html: <p><a href="https://post-musik.ch/allespost-m
 usikfest/#line-up-2" target="_blank" rel="noopener">Line-up</a></p><p><stro
 ng>Herzlich willkommen zum Alles Post- MusikFest! Vol. IV</strong></p><p>Wi
 r präsentieren stolz ein einzigartiges Musikfestival\, das sich dem Post-Pu
 nk\, Post-Rock\, Alternative und Experimental Musik widmet. Das Festival fi
 ndet am Samstag 30.05.2026 in der Dynamo/Werk21 statt und verspricht ein un
 vergessliches Erlebnis für alle Musikliebhaber. Wir haben eine beeindrucken
 de Aufstellung von Bands und Künstlern aus der Schweiz zusammengestellt\, d
 ie die Grenzen der herkömmlichen Musikgenres sprengen werden. Von energetis
 chen Post-Punk-Bands über experimentelle Klänge bis hin zu hypnotisierenden
  Post-Rock-Auftritten ist für jeden Geschmack etwas dabei.</p><p>Line up:<b
 r /><a href="https://www.dariusofficial.com/" target="_blank" rel="noopener
 ">Darius</a> (Bulle) Orchestral Noise-Rock / Post-Rock<br /><a href="https:
 //www.facebook.com/penkowski/" target="_blank" rel="noopener">Penkowski</a>
  (Biel) Post-Punk / No-wave<br /><a href="https://www.instagram.com/wolfer.
 band/" target="_blank" rel="noopener">Wolfer</a> (Bern) Noise-Rock / Shoega
 ze<br /><a href="https://www.instagram.com/ponys_schranke/" target="_blank"
  rel="noopener">Ponys</a> (Zürich) Post-Etwas / Experimental</p><p>Dieses J
 ahr wird uns der Musikblog <a href="https://www.reverbdream.ch/" target="_b
 lank" rel="noopener">Reverb Dream</a> beim Event begleiten\, um euch über d
 ie lokale und regionale Musikszene der Schweiz auf dem Laufenden zu halten.
  Ausserdem Record Labels\, Musikmagazine und einen Vinylmarkt runden das An
 gebot ab!</p><p>Alles Post Musikfest ist mehr als nur ein einfaches Musikfe
 stival. Es ist ein Treffpunkt für Menschen\, die sich für die Genres Post-P
 unk\, Post-Rock\, Post-Metal\, Alternative und Experimental interessieren. 
 Ein Ort\, an dem man Erfahrungen austauschen und Netzwerke zwischen Musiker
 n\, Produzenten\, Videografen und Musikliebhabern im Allgemeinen knüpfen ka
 nn.</p><p>Wenn du dich diesem lokalen Movement in der Stadt Zürich anschlie
 ssen möchtest und dich für die lokale\, nationale und internationale Musiks
 zene interessierst\, dann bist du hier genau richtig.</p><p>Komm und genies
 se:</p><ul><li>Live-Musik von aufstrebenden und etablierten Bands.</li><li>
 Eine einzigartige Atmosphäre voller Energie und Leidenschaft für Musik.</li
 ><li>Möglichkeiten\, Kontakte zu anderen Musikliebhabern zu knüpfen.</li><l
 i>Neue Sounds entdecken und deinen musikalischen Horizont erweitern.</li></
 ul><p>Verpasse nicht die nächste Ausgabe des Alles Post Musikfestes. Wir wa
 rten auf dich!</p>
CATEGORIES:Metal,Pop,Progressive,Punk,Rock,Wave
LOCATION:Werk 21
GEO:47.383312;8.539341
ORGANIZER;CN="JHG Shark":MAILTO:webmaster@jhgshark.ch
URL;VALUE=URI:https://artnoir.ch/events/event/alles-post-musik-fest-2026/
ATTACH;FMTTYPE=image/png:https://artnoir.ch/wp-content/uploads/2026/02/alles-post-musik-fest-2026.png
END:VEVENT
BEGIN:VTIMEZONE
TZID:Europe/Zurich
BEGIN:DAYLIGHT
TZOFFSETFROM:+0100
TZOFFSETTO:+0200
DTSTART:20260329T010000
TZNAME:CEST
END:DAYLIGHT
END:VTIMEZONE
END:VCALENDAR
