BEGIN:VCALENDAR
VERSION:2.0
PRODID:-//ARTNOIR//NONSGML Events//EN
CALSCALE:GREGORIAN
X-ORIGINAL-URL:https://artnoir.ch/events/event/
X-WR-CALDESC:ARTNOIR - Events
BEGIN:VEVENT
UID:20251019T1631Z-1760891492.1588-EO-254680-1@10.0.9.52
STATUS:CONFIRMED
DTSTAMP:20260424T010734Z
CREATED:20251018T143449Z
LAST-MODIFIED:20251018T143449Z
DTSTART;TZID=Europe/Zurich:20260707T183000
DTEND;TZID=Europe/Zurich:20260707T223000
SUMMARY: Alice Cooper
DESCRIPTION: Alice Cooper\nThe Revenge of Alice Cooper\nDer Meister des Sch
 ock-Rock kehrt zurück! Am Dienstag\, 07. Juli 2026 bringt Alice Cooper sein
 e spektakuläre Bühnenshow noch einmal in die Schweiz – ein Muss für alle Ro
 ckfans\, die den ultimativen Mix aus Theatralik\, Horror und Hardrock erleb
 en wollen.\nNach 51 Jahren hat sich Alice Cooper erstmals wieder mit seinen
  ehemaligen Bandmitgliedern Michael Bruce\, Dennis Dunaway und Neal Smith z
 usammengetan\, ... [Read more...]
X-ALT-DESC;FMTTYPE=text/html: <p><a href="https://alicecooper.com/" rel="no
 opener" target="_blank">Alice Cooper</a></p><p><strong>The Revenge of Alice
  Cooper</strong></p><p>Der Meister des Schock-Rock kehrt zurück! Am Diensta
 g\, 07. Juli 2026 bringt Alice Cooper seine spektakuläre Bühnenshow noch ei
 nmal in die Schweiz – ein Muss für alle Rockfans\, die den ultimativen Mix 
 aus Theatralik\, Horror und Hardrock erleben wollen.</p><p>Nach 51 Jahren h
 at sich Alice Cooper erstmals wieder mit seinen ehemaligen Bandmitgliedern 
 Michael Bruce\, Dennis Dunaway und Neal Smith zusammengetan\, um das Album 
 The Revenge of Alice Cooper zu veröffentlichen. Mit diesem sensationellen W
 erk hat der Schock-Rocker nicht nur einen Kreis geschlossen\, sondern auch 
 Platz 2 der Schweizer Albumcharts geknackt. Ein neues\, vielleicht letztes 
 Kapitel einer unverwechselbaren Rockgeschichte hat begonnen.</p><p>Seit den
  frühen 70er Jahren steht der Name Alice Cooper für imposante Rockinszenier
 ungen und Songs\, die längst Klassikerstatus erreicht haben. Ursprünglich a
 ls Band gegründet\, gelang Alice Cooper mit dem Album Love It to Death und 
 dem Hit I’m Eighteen der Solo-Durchbruch. Die Mischung aus rohem Gitarrenso
 und\, bissigem Humor und düsterem Bühnenzauber prägte ein ganzes Genre und 
 machte Alice Cooper zu einer Ikone.</p><p>Mit Alben wie Trash und Hey Stoop
 id setzte er neue Massstäbe in Sachen Konzeptrock und Bühnenshow. Alice Coo
 pers Auftritte sind berühmt-berüchtigt für ihre aufwändigen Inszenierungen 
 – von Schlangen und Guillotinen über Kunstblut bis hin zu makabrer Theatral
 ik. Doch hinter all dem Spektakel steckt ein Musiker\, der seine Kunst und 
 sein Publikum perfekt versteht.</p><p>Lasst euch diesen Abend nicht entgehe
 n\, wenn Alice Cooper The Hall Zürich in ein Rock’n’Roll-Schreckenskabinett
  verwandelt – ein Abend voller Energie\, Klassiker und überraschender Momen
 te.</p>
CATEGORIES:Rock
LOCATION:The Hall
GEO:47.396025;8.597894
ORGANIZER;CN="Nicole Wild":MAILTO:nic.wild@yahoo.com
URL;VALUE=URI:https://artnoir.ch/events/event/alice-cooper-2026-07-07/
ATTACH;FMTTYPE=image/jpeg:https://artnoir.ch/wp-content/uploads/2025/10/alice-cooper-2026-07-07.jpg
END:VEVENT
BEGIN:VTIMEZONE
TZID:Europe/Zurich
BEGIN:DAYLIGHT
TZOFFSETFROM:+0100
TZOFFSETTO:+0200
DTSTART:20260329T010000
TZNAME:CEST
END:DAYLIGHT
END:VTIMEZONE
END:VCALENDAR
