BEGIN:VCALENDAR
VERSION:2.0
PRODID:-//ARTNOIR//NONSGML Events//EN
CALSCALE:GREGORIAN
X-ORIGINAL-URL:https://artnoir.ch/events/event/
X-WR-CALDESC:ARTNOIR - Events
BEGIN:VEVENT
UID:20260321T0421Z-1774066876.2677-EO-262018-1@10.0.9.48
STATUS:CONFIRMED
DTSTAMP:20260424T010513Z
CREATED:20260318T122356Z
LAST-MODIFIED:20260318T122624Z
DTSTART;TZID=Europe/Zurich:20260813T180000
DTEND;TZID=Europe/Zurich:20260813T223000
SUMMARY: Alcest
DESCRIPTION: Alcest\nWie so oft verlangen ALCEST ihren Hörer:innen Geduld a
 b\, mäandern durch verschiedene Stimmungen\, und lassen ihre Musik in einem
  Ausbruch an Emotion kulminieren.\nWeiter ausgebaut hat die Band den spätes
 tens seit «Kodama» vorhandenen japanischen Einfluss. Mit «Komorebi» hat Nei
 ge ein besonders schönes japanisches Wort als Songtitel gewählt\, das besch
 reibt\, wie Sonnenlicht durch ein Blätterdach fällt. Kopfhörer anziehen und
  abtauchen in die wunderbare Welt von ALCEST. ... [Read more...]
X-ALT-DESC;FMTTYPE=text/html: <p><a href="https://alcestmusic.com/" rel="no
 opener" target="_blank">Alcest</a></p><p>Wie so oft verlangen ALCEST ihren 
 Hörer:innen Geduld ab\, mäandern durch verschiedene Stimmungen\, und lassen
  ihre Musik in einem Ausbruch an Emotion kulminieren.</p><p>Weiter ausgebau
 t hat die Band den spätestens seit «Kodama» vorhandenen japanischen Einflus
 s. Mit «Komorebi» hat Neige ein besonders schönes japanisches Wort als Song
 titel gewählt\, das beschreibt\, wie Sonnenlicht durch ein Blätterdach fäll
 t. Kopfhörer anziehen und abtauchen in die wunderbare Welt von ALCEST.</p>
CATEGORIES:Rock
LOCATION:KIFF
GEO:47.398757;8.063867
ORGANIZER;CN="JHG Shark":MAILTO:webmaster@jhgshark.ch
URL;VALUE=URI:https://artnoir.ch/events/event/alcest-2026-08-13/
ATTACH;FMTTYPE=image/jpeg:https://artnoir.ch/wp-content/uploads/2026/03/alcest-2026-08-13.jpg
END:VEVENT
BEGIN:VTIMEZONE
TZID:Europe/Zurich
BEGIN:DAYLIGHT
TZOFFSETFROM:+0100
TZOFFSETTO:+0200
DTSTART:20260329T010000
TZNAME:CEST
END:DAYLIGHT
END:VTIMEZONE
END:VCALENDAR
