BEGIN:VCALENDAR
VERSION:2.0
PRODID:-//ARTNOIR//NONSGML Events//EN
CALSCALE:GREGORIAN
X-ORIGINAL-URL:https://artnoir.ch/events/event/
X-WR-CALDESC:ARTNOIR - Events
BEGIN:VEVENT
UID:20260415T2040Z-1776285648.1691-EO-262914-1@10.0.9.48
STATUS:CONFIRMED
DTSTAMP:20260424T022828Z
CREATED:20260411T143552Z
LAST-MODIFIED:20260411T143752Z
DTSTART;TZID=Europe/Zurich:20260722T183000
DTEND;TZID=Europe/Zurich:20260722T230000
SUMMARY: Airbourne
DESCRIPTION: Airbourne\nSpecial Summer Show\nDie australischen Hardrock-Gig
 anten Airbourne meldeten sich 2025 eindrucksvoll zurück – lauter\, kompromi
 ssloser und energiegeladener denn je. Mit „GUTSY“\, ihrer ersten neuen Sing
 le seit sechs Jahren\, lieferte die Band im vergangenen Jahr einen explosiv
 en Vorgeschmack auf das\, was Fans erwartet: purer\, schweißtreibender Rock
 ’n’Roll mit maximaler Attitüde.\nIm Rahmen einer exklusiven Special Summer 
 Show bringen Airbourne ihren brachialen Sound live in die Kulturfabrik Kofm
 ehl – ein Pflichttermin für alle Rockfans\, ... [Read more...]
X-ALT-DESC;FMTTYPE=text/html: <p><a href="https://airbournerock.com/" rel="
 noopener" target="_blank">Airbourne</a></p><p><strong>Special Summer Show</
 strong></p><p>Die australischen Hardrock-Giganten Airbourne meldeten sich 2
 025 eindrucksvoll zurück – lauter\, kompromissloser und energiegeladener de
 nn je. Mit „GUTSY“\, ihrer ersten neuen Single seit sechs Jahren\, lieferte
  die Band im vergangenen Jahr einen explosiven Vorgeschmack auf das\, was F
 ans erwartet: purer\, schweißtreibender Rock’n’Roll mit maximaler Attitüde.
 </p><p>Im Rahmen einer exklusiven Special Summer Show bringen Airbourne ihr
 en brachialen Sound live in die Kulturfabrik Kofmehl – ein Pflichttermin fü
 r alle Rockfans\, die ehrlichen\, kompromisslosen Sound lieben.</p>
CATEGORIES:Rock
LOCATION:Kofmehl
GEO:47.200649;7.528200
ORGANIZER;CN="JHG Shark":MAILTO:webmaster@jhgshark.ch
URL;VALUE=URI:https://artnoir.ch/events/event/airbourne-2026-07-22/
ATTACH;FMTTYPE=image/jpeg:https://artnoir.ch/wp-content/uploads/2026/04/airbourne-2026-07-22.jpg
END:VEVENT
BEGIN:VTIMEZONE
TZID:Europe/Zurich
BEGIN:DAYLIGHT
TZOFFSETFROM:+0100
TZOFFSETTO:+0200
DTSTART:20260329T010000
TZNAME:CEST
END:DAYLIGHT
END:VTIMEZONE
END:VCALENDAR
