BEGIN:VCALENDAR
VERSION:2.0
PRODID:-//ARTNOIR//NONSGML Events//EN
CALSCALE:GREGORIAN
X-ORIGINAL-URL:https://artnoir.ch/events/event/
X-WR-CALDESC:ARTNOIR - Events
BEGIN:VEVENT
UID:20260415T2039Z-1776285567.682-EO-263060-1@10.0.9.48
STATUS:CONFIRMED
DTSTAMP:20260423T231848Z
CREATED:20260413T192303Z
LAST-MODIFIED:20260413T192303Z
DTSTART;TZID=Europe/Zurich:20260906T170000
DTEND;TZID=Europe/Zurich:20260906T200000
SUMMARY: Ailise Blake
DESCRIPTION: Ailise Blake\nAILISE BLAKE quitte tôt sa Toscane natale pour B
 ordeaux – et pour les beaux yeux de JC Satan\, groupe où elle officie à la 
 basse au fil des tournées\, avant de se recentrer sur des envies musicales 
 plus dépouillées : son premier (vrai) album solo paraît en 2025\, après un 
 enregistrement en solitaire dans un studio planté au sommet d’une montagne 
 : une folk contemplative\, infusée d’ésotérisme\, ... [Read more...]
X-ALT-DESC;FMTTYPE=text/html: <p><a href="https://www.ailise-blake.com/" re
 l="noopener" target="_blank">Ailise Blake</a></p><p><strong>AILISE BLAKE</s
 trong> quitte tôt sa Toscane natale pour Bordeaux – et pour les beaux yeux 
 de JC Satan\, groupe où elle officie à la basse au fil des tournées\, avant
  de se recentrer sur des envies musicales plus dépouillées : son premier (v
 rai) album solo paraît en 2025\, après un enregistrement en solitaire dans 
 un studio planté au sommet d’une montagne : une folk contemplative\, infusé
 e d’ésotérisme\, qui reflète autant les cieux que les limbes. Adeptes d’Emm
 a Ruth Rundle ou Julianna Barwick\, ne passez surtout pas votre chemin !</p
 ><p>Vigneron et oenologue\, <strong>Arthur Duplan</strong> a débarqué à la 
 Tour de Marsens en 2020 pour reprendre le bichonnage des vignes du Domaine.
  A la force du mollet\, vu l’escarpe du vignoble alentours\, il produit not
 amment un Dézaley en or massif et un gamay décoiffant (le « Trésor de la To
 ur »).</p><p>Vous l’avez toute aperçue moult fois en traversant Lavaux : l’
 altière <strong>Tour de Marsens</strong> est juchée entre Epesses et Puidou
 x depuis le XIIe siècle\, en plein milieu du vignoble. Restaurée au XIXe pu
 is en 1946\, ses vieilles pierres restent passablement mystérieuses\, à par
 t aux yeux des quelques initié.e.s qui l’ont visités lors des caves ouverte
 s : la session Hummus & Wine est une des rares incursions musicales qui arr
 ive à s’y glisser.</p><p>Concert dans la très pittoresque Tour de Marsens. 
 Portes 17h \; concert 18h\; fin 20h. Dégustation (billets combinés « concer
 t + dégust » de 16h à 17h). Bar à vins et planchettes. Gare CFF Puidoux à 1
 5 min (en descente) – parking le plus proche à 10m à pied.</p>
CATEGORIES:Pop,Rock,Wave
LOCATION:Tour de Marsens
GEO:46.488820;6.754823
ORGANIZER;CN="JHG Shark":MAILTO:webmaster@jhgshark.ch
URL;VALUE=URI:https://artnoir.ch/events/event/ailise-blake-2026-09-06/
ATTACH;FMTTYPE=image/jpeg:https://artnoir.ch/wp-content/uploads/2026/04/ailise-blake-2026-09-06.jpg
END:VEVENT
BEGIN:VTIMEZONE
TZID:Europe/Zurich
BEGIN:DAYLIGHT
TZOFFSETFROM:+0100
TZOFFSETTO:+0200
DTSTART:20260329T010000
TZNAME:CEST
END:DAYLIGHT
END:VTIMEZONE
END:VCALENDAR
