BEGIN:VCALENDAR
VERSION:2.0
PRODID:-//ARTNOIR//NONSGML Events//EN
CALSCALE:GREGORIAN
X-ORIGINAL-URL:https://artnoir.ch/events/event/
X-WR-CALDESC:ARTNOIR - Events
BEGIN:VEVENT
UID:20260203T1229Z-1770121786.5294-EO-259558-1@10.0.9.48
STATUS:CONFIRMED
DTSTAMP:20260424T011110Z
CREATED:20260201T133946Z
LAST-MODIFIED:20260410T110706Z
DTSTART;TZID=Europe/Zurich:20260711T190000
DTEND;TZID=Europe/Zurich:20260711T235900
SUMMARY: Agnes Obel
DESCRIPTION: Agnes Obel\nNach sechs Jahren Bühnenpause kehrt Agnes Obel zur
 ück in die Schweiz. Die klassisch ausgebildete Pianistin mit ihrer elegante
 n\, ausdrucksstarken Stimme war zuletzt 2022 für ausverkaufte Konzerte in Z
 ürich und Lausanne zu Gast.\nObels Kompositionen vereinen Alternative\, Neo
 klassik\, Pop\, Jazz und elektronische Musik zu einer bewegenden Klangwelt.
  Ihre Werke sind aus Film\, Fernsehen\, Videospielen und der Mode kaum mehr
  wegzudenken. So wurde ihre Musik unter anderem in The Last of Us\, ... [Re
 ad more...]
X-ALT-DESC;FMTTYPE=text/html: <p><a href="https://www.agnesobel.com" rel="n
 oopener" target="_blank">Agnes Obel</a></p><p>Nach sechs Jahren Bühnenpause
  kehrt Agnes Obel zurück in die Schweiz. Die klassisch ausgebildete Pianist
 in mit ihrer eleganten\, ausdrucksstarken Stimme war zuletzt 2022 für ausve
 rkaufte Konzerte in Zürich und Lausanne zu Gast.<br />Obels Kompositionen v
 ereinen Alternative\, Neoklassik\, Pop\, Jazz und elektronische Musik zu ei
 ner bewegenden Klangwelt. Ihre Werke sind aus Film\, Fernsehen\, Videospiel
 en und der Mode kaum mehr wegzudenken. So wurde ihre Musik unter anderem in
  The Last of Us\, True Detective\, Big Little Lies und dem Videospiel Dark 
 Souls III verwendet. Riverside\, Fuel to Fire\, The Curse\, September Song\
 , It's Happening Again\, Familiar – die Liste liesse sich endlos fortsetzen
 . Die Klanglandschaften\, die die Dänin erschafft\, tragen eine skandinavis
 che Magie in sich. Sie sind weit mehr als blosse Untermalung: Sie gehen unt
 er die Haut\, bringen tiefe Emotionen zum Vorschein und hallen lange nach. 
 Kein Wunder also\, dass ihre Musik immer wieder in Schlüsselmomenten von Fi
 lm und Fernsehen eingesetzt wird.</p><p>Agnes Obel vereint Einflüsse von PJ
  Harvey und Claude Debussy. Verglichen wird sie oft mit Ane Brun\, Eva Cass
 idy und Joni Mitchell. Ihr Debütalbum Philharmonics (2010) wurde – vom John
 -Cale-Cover I Keep a Close Watch abgesehen – von der Künstlerin selbst gesc
 hrieben\, gespielt und produziert. Bis heute bringt sie ihr Allround-Talent
  in sämtlichen Arbeitsprozessen ein.</p><p>Türöffnung: 19:00<br />Support: 
 20:00<br />Agnes Obel: 21:00</p>
CATEGORIES:Pop,Rock
LOCATION:The Hall
GEO:47.396025;8.597894
ORGANIZER;CN="Nicole Wild":MAILTO:nic.wild@yahoo.com
URL;VALUE=URI:https://artnoir.ch/events/event/agnes-obel-2026-07-11/
ATTACH;FMTTYPE=image/jpeg:https://artnoir.ch/wp-content/uploads/2026/02/agnes-obel-2026-07-11.jpg
END:VEVENT
BEGIN:VTIMEZONE
TZID:Europe/Zurich
BEGIN:DAYLIGHT
TZOFFSETFROM:+0100
TZOFFSETTO:+0200
DTSTART:20260329T010000
TZNAME:CEST
END:DAYLIGHT
END:VTIMEZONE
END:VCALENDAR
