BEGIN:VCALENDAR
VERSION:2.0
PRODID:-//ARTNOIR//NONSGML Events//EN
CALSCALE:GREGORIAN
X-ORIGINAL-URL:https://artnoir.ch/events/event/
X-WR-CALDESC:ARTNOIR - Events
BEGIN:VEVENT
UID:20260205T1241Z-1770295270.8195-EO-259549-1@10.0.9.48
STATUS:CONFIRMED
DTSTAMP:20260423T234208Z
CREATED:20260131T160042Z
LAST-MODIFIED:20260131T160042Z
DTSTART;VALUE=DATE:20260916
DTEND;VALUE=DATE:20260917
SUMMARY: Actors
DESCRIPTION: Actors ... [Read more...]
X-ALT-DESC;FMTTYPE=text/html: <p><a href="https://www.actorstheband.com/" r
 el="noopener" target="_blank">Actors</a></p>
CATEGORIES:Wave
LOCATION:Caves du Manoir
GEO:46.101913;7.072374
ORGANIZER;CN="JHG Shark":MAILTO:webmaster@jhgshark.ch
URL;VALUE=URI:https://artnoir.ch/events/event/actors-2026-09-16/
ATTACH;FMTTYPE=image/jpeg:https://artnoir.ch/wp-content/uploads/2026/01/actors-2026-09-16.jpg
END:VEVENT
BEGIN:VTIMEZONE
TZID:Europe/Zurich
BEGIN:DAYLIGHT
TZOFFSETFROM:+0100
TZOFFSETTO:+0200
DTSTART:20260329T010000
TZNAME:CEST
END:DAYLIGHT
END:VTIMEZONE
END:VCALENDAR
