BEGIN:VCALENDAR
VERSION:2.0
PRODID:-//ARTNOIR//NONSGML Events//EN
CALSCALE:GREGORIAN
X-ORIGINAL-URL:https://artnoir.ch/events/event/
X-WR-CALDESC:ARTNOIR - Events
BEGIN:VEVENT
UID:20251119T0608Z-1763532514.2369-EO-256343-1@10.0.9.48
STATUS:CONFIRMED
DTSTAMP:20260423T143052Z
CREATED:20251114T153941Z
LAST-MODIFIED:20260102T123930Z
DTSTART;TZID=Europe/Zurich:20260424T191500
DTEND;TZID=Europe/Zurich:20260424T235900
SUMMARY: A Place To Bury Strangers
DESCRIPTION: A Place To Bury Strangers\n+ Kontravoid\nNein\, wir können nic
 ht von dieser Band lassen\, wollen sie immer und immer wieder hören\, holen
  uns ihre apokalyptischen Gitarrenrückkoppelungen\, ihre gleissende Wucht\,
  ihren lebensmüden Gesang schon zum siebten Mal in unser Gewölbe\, wo sich 
 der Trockennebel und das Stroboskopgewitter mit dem Rauschen dieser viellei
 cht unberechenbarsten aller New Yorker Rockgruppen der letzten zwanzig Jahr
 e vermischt: A PLACE TO BURY STRANGERS. ... [Read more...]
X-ALT-DESC;FMTTYPE=text/html: <p><a href="https://www.aplacetoburystrangers
 .com" rel="noopener" target="_blank">A Place To Bury Strangers</a><br />+ <
 a href="https://kontravoid.com/" rel="noopener" target="_blank">Kontravoid<
 /a></p><p>Nein\, wir können nicht von dieser Band lassen\, wollen sie immer
  und immer wieder hören\, holen uns ihre apokalyptischen Gitarrenrückkoppel
 ungen\, ihre gleissende Wucht\, ihren lebensmüden Gesang schon zum siebten 
 Mal in unser Gewölbe\, wo sich der Trockennebel und das Stroboskopgewitter 
 mit dem Rauschen dieser vielleicht unberechenbarsten aller New Yorker Rockg
 ruppen der letzten zwanzig Jahre vermischt: <strong>A PLACE TO BURY STRANGE
 RS</strong>. Ihr Sound besteht zu gleichen Teilen aus Noise\, Reverb\, Temp
 o und Melodie. Höllisch\, atemberaubend\, kathartisch. Wenn er nicht auf To
 ur ist\, verdient sich Sänger und Gitarrist Oliver Ackermann seinen Lebensu
 nterhalt mit dem Ertüfteln von handgelöteten Effektgeräten\, die klanglich 
 „weit weg von Mark Knopfler liegen“\, wie der Wiener „Standard“ festhält. „
 Death By Audio“ heisst die Marke treffend und wird von Gitarrist:innen vere
 hrt – was nicht heisst\, dass ein paar Soundeffekte schon reichen\, um wie 
 My Bloody Valentine auf Speed zu klingen.</p><p>Der Kanadier <strong>KONTRA
 VOID</strong> tritt gerne mit weisser Maske auf. Sein Darkwave passt zu den
  Filmen von David Lynch und irrlichtert zwischen Skinny Puppy und den frühe
 n Nine Inch Nails. Schön düster\, ja\, aber nicht ohne Aufhellungen.</p>
CATEGORIES:Rock,Wave
LOCATION:Bogen F
GEO:47.384775;8.520808
ORGANIZER;CN="Nicole Wild":MAILTO:nic.wild@yahoo.com
URL;VALUE=URI:https://artnoir.ch/events/event/a-place-to-bury-strangers-202
 6-04-24/
ATTACH;FMTTYPE=image/jpeg:https://artnoir.ch/wp-content/uploads/2025/11/a-place-to-bury-strangers-2026-04-24.jpg
END:VEVENT
BEGIN:VTIMEZONE
TZID:Europe/Zurich
BEGIN:DAYLIGHT
TZOFFSETFROM:+0100
TZOFFSETTO:+0200
DTSTART:20260329T010000
TZNAME:CEST
END:DAYLIGHT
END:VTIMEZONE
END:VCALENDAR
