BEGIN:VCALENDAR
VERSION:2.0
PRODID:-//ARTNOIR//NONSGML Events//EN
CALSCALE:GREGORIAN
X-ORIGINAL-URL:https://artnoir.ch/events/event/
X-WR-CALDESC:ARTNOIR - Events
BEGIN:VEVENT
UID:20251102T0756Z-1762070161.9569-EO-255405-1@10.0.9.48
STATUS:CONFIRMED
DTSTAMP:20260423T232320Z
CREATED:20251027T190527Z
LAST-MODIFIED:20260313T133445Z
DTSTART;TZID=Europe/Zurich:20260618T183000
DTEND;TZID=Europe/Zurich:20260618T235900
SUMMARY: A Perfect Circle
DESCRIPTION: A Perfect Circle\n+ Jehnny Beth.\nA Perfect Circle wurde 1999 
 von Billy Howerdel und Maynard James Keenan gegründet und hat seither vier 
 Alben veröffentlicht. Mit ihrem Debütalbum «Mer de Noms» (2000) schafften s
 ie den höchsten Charteinstieg\, welches ein Rockalbum zu dieser Zeit jemals
  erreicht hatte.\nDas Album enthielt unter anderem die Hit-Singles «Judith»
  und «3 Libras» und gilt bis heute als Meilenstein in Sachen Alternative un
 d Hard Rock. ... [Read more...]
X-ALT-DESC;FMTTYPE=text/html: <p><a href="https://www.aperfectcircle.com" r
 el="noopener" target="_blank">A Perfect Circle</a><br />+ <a href="https://
 www.instagram.com/jehnnybeth/" rel="noopener" target="_blank">Jehnny Beth.<
 /a></p><p>A Perfect Circle wurde 1999 von Billy Howerdel und Maynard James 
 Keenan gegründet und hat seither vier Alben veröffentlicht. Mit ihrem Debüt
 album «Mer de Noms» (2000) schafften sie den höchsten Charteinstieg\, welch
 es ein Rockalbum zu dieser Zeit jemals erreicht hatte.</p><p>Das Album enth
 ielt unter anderem die Hit-Singles «Judith» und «3 Libras» und gilt bis heu
 te als Meilenstein in Sachen Alternative und Hard Rock. Im Laufe ihrer über
  25-jährigen Karriere haben sie drei weitere Alben veröffentlicht: «Thirtee
 nth Step» (2003)\, «eMOTIVe» (2004) und «Eat the Elephant» (2018)\, das auf
  Platz 3 der Billboard 200 debütierte und die Billboard Rock Albums Charts 
 anführte.</p><p>A Perfect Circle war Headliner bei Festivals weltweit\, spi
 elte vor ausverkauften Rängen in renommierten Veranstaltungsorten wie dem H
 ollywood Bowl\, dem Madison Square Garden und dem Red Rocks Amphitheatre un
 d trat in verschiedenen Late-Night-Fernsehsendungen wie «Jimmy Kimmel Live»
  und «The Tonight Show» auf.</p>
CATEGORIES:Metal,Progressive,Rock
LOCATION:Halle 622
GEO:47.413112;8.541888
ORGANIZER;CN="Nicole Wild":MAILTO:nic.wild@yahoo.com
URL;VALUE=URI:https://artnoir.ch/events/event/a-perfect-circle-2026-06-18/
ATTACH;FMTTYPE=image/jpeg:https://artnoir.ch/wp-content/uploads/2025/10/a-perfect-circle-2026-06-18.jpg
END:VEVENT
BEGIN:VTIMEZONE
TZID:Europe/Zurich
BEGIN:DAYLIGHT
TZOFFSETFROM:+0100
TZOFFSETTO:+0200
DTSTART:20260329T010000
TZNAME:CEST
END:DAYLIGHT
END:VTIMEZONE
END:VCALENDAR
