BEGIN:VCALENDAR
VERSION:2.0
PRODID:-//ARTNOIR//NONSGML Events//EN
CALSCALE:GREGORIAN
X-ORIGINAL-URL:https://artnoir.ch/events/event/
X-WR-CALDESC:ARTNOIR - Events
BEGIN:VEVENT
UID:20260322T0753Z-1774165994.696-EO-262039-1@10.0.9.48
STATUS:CONFIRMED
DTSTAMP:20260423T234652Z
CREATED:20260319T135402Z
LAST-MODIFIED:20260319T140228Z
DTSTART;TZID=Europe/Zurich:20260620T160000
DTEND;TZID=Europe/Zurich:20260620T235900
SUMMARY: 6.6.6. Berggeflvster Jubiläumsfestival
DESCRIPTION: Vollmondprozession / Túmulo / s.g.a.t.v.666 / Deathcult\nDer B
 erggeflvster Verein und Vinyl Store feiert sein unheiliges Wirken in den Ti
 efen der Katakomben – und zwar wird er am Wochenende vom 19/20ten Juni haar
 genau 6 Jahre\, 6 Monate und 6 Tage alt\, welch ein grauenvolles Alter!\nDe
 m Anlass entsprechend schmeissen wir ein Festival am SA 20.Juni im Tanzbode
 n Gaswerk\, Winterthur mit ghörigem Saus und ein Jubiläums Vorglühen am FR 
 19.Juni im Berggeflvster Vinyl Store mit ordentlich Braus. ... [Read more..
 .]
X-ALT-DESC;FMTTYPE=text/html: <p><a href="https://www.instagram.com/_vollmo
 ndprozession_/" rel="noopener" target="_blank">Vollmondprozession</a> / <a 
 href="https://www.facebook.com/tumuloch/" rel="noopener" target="_blank">Tú
 mulo</a> / <a href="https://www.instagram.com/s.g.a.t.v.666/" rel="noopener
 " target="_blank">s.g.a.t.v.666</a> / <a href="https://www.instagram.com/de
 athcult_band/" rel="noopener" target="_blank">Deathcult</a></p><p>Der Bergg
 eflvster Verein und Vinyl Store feiert sein unheiliges Wirken in den Tiefen
  der Katakomben – und zwar wird er am Wochenende vom 19/20ten Juni haargena
 u 6 Jahre\, 6 Monate und 6 Tage alt\, welch ein grauenvolles Alter!</p><p>D
 em Anlass entsprechend schmeissen wir ein Festival am SA 20.Juni im Tanzbod
 en Gaswerk\, Winterthur mit ghörigem Saus und ein Jubiläums Vorglühen am FR
  19.Juni im Berggeflvster Vinyl Store mit ordentlich Braus. Bleibt wachsam 
 und hols der Taifl!</p>
CATEGORIES:Metal
LOCATION:Gaswerk
GEO:47.494529;8.707780
ORGANIZER;CN="JHG Shark":MAILTO:webmaster@jhgshark.ch
URL;VALUE=URI:https://artnoir.ch/events/event/6-6-6-berggeflvster-jubilaeum
 sfestival-2026-06-20/
ATTACH;FMTTYPE=image/jpeg:https://artnoir.ch/wp-content/uploads/2026/03/6-6-6-berggeflvster-jubilaeumsfestival-2026-06-20.jpg
END:VEVENT
BEGIN:VTIMEZONE
TZID:Europe/Zurich
BEGIN:DAYLIGHT
TZOFFSETFROM:+0100
TZOFFSETTO:+0200
DTSTART:20260329T010000
TZNAME:CEST
END:DAYLIGHT
END:VTIMEZONE
END:VCALENDAR
